BEGIN:VCALENDAR
VERSION:2.0
PRODID:-//ChamberMaster//Event Calendar 2.0//EN
METHOD:PUBLISH
X-PUBLISHED-TTL:P3D
REFRESH-INTERVAL:P3D
CALSCALE:GREGORIAN
BEGIN:VEVENT
DTSTART:20250314T233000Z
DTEND:20250315T013000Z
X-MICROSOFT-CDO-ALLDAYEVENT:FALSE
SUMMARY:I Love You\, You're Perfect\, Now Change
DESCRIPTION:The longest running off-Broadway revue in history has been revised for the 21st century! This celebration of the mating game takes on the truths and myths behind that contemporary conundrum known as "the relationship. This hilarious revue pays tribute to those who have loved and lost\, to those who have fallen on their face at the portal of romance\, to those who have dared to ask\, "Say\, what are you doing Saturday night?" "Hilarious! The most entertaining show on or off Broadway!"   Gannett Newspapers
X-ALT-DESC;FMTTYPE=text/html:The longest running off-Broadway revue in history has been revised for the 21st century! This celebration of the mating game takes on the truths and myths behind that contemporary conundrum known as &ldquo\;the relationship. This hilarious revue pays tribute to those who have loved and lost\, to those who have fallen on their face at the portal of romance\, to those who have dared to ask\, &ldquo\;Say\, what are you doing Saturday night?&rdquo\; &ldquo\;Hilarious! The most entertaining show on or off Broadway!&rdquo\; &ndash\; Gannett Newspapers
LOCATION:Biddeford City Theater 205 Main Street
UID:e.1923.31165
SEQUENCE:3
DTSTAMP:20260420T230525Z
URL:https://chamber.gokennebunks.com/events/details/i-love-you-you-re-perfect-now-change-31165
END:VEVENT

END:VCALENDAR
