BEGIN:VCALENDAR
VERSION:2.0
PRODID:-//ChamberMaster//Event Calendar 2.0//EN
METHOD:PUBLISH
X-PUBLISHED-TTL:P3D
REFRESH-INTERVAL:P3D
CALSCALE:GREGORIAN
BEGIN:VEVENT
DTSTART:20250322T233000Z
DTEND:20250323T013000Z
X-MICROSOFT-CDO-ALLDAYEVENT:FALSE
SUMMARY:I Love You\, You're Perfect\, Now Change
DESCRIPTION:A celebration of the mating games takes on the truths and myths behind contemporary relationships. The longest running off-Broadway musical in history!
X-ALT-DESC;FMTTYPE=text/html:A celebration of the mating games takes on the truths and myths behind contemporary relationships. The longest running off-Broadway musical in history!
LOCATION:Biddeford City Theater
UID:e.1923.33258
SEQUENCE:3
DTSTAMP:20260420T230620Z
URL:https://chamber.gokennebunks.com/events/details/i-love-you-you-re-perfect-now-change-03-22-2025-33258
END:VEVENT

END:VCALENDAR
