BEGIN:VCALENDAR
VERSION:2.0
PRODID:-//ChamberMaster//Event Calendar 2.0//EN
METHOD:PUBLISH
X-PUBLISHED-TTL:P3D
REFRESH-INTERVAL:P3D
CALSCALE:GREGORIAN
BEGIN:VEVENT
DTSTART:20171105T200000Z
DTEND:20171105T210000Z
X-MICROSOFT-CDO-ALLDAYEVENT:FALSE
SUMMARY:Hymn Sing\, with Hymn Preludes
DESCRIPTION:All are invited to this Hymn Sing\, featuring favorite old hymns and a few not-so-familiar ones. Joyce Painter Rice\, church Music Director\, will play tune Preludes on the church's 1854 E. & G. G. Hook organ.
X-ALT-DESC;FMTTYPE=text/html:All are invited to this Hymn Sing\, featuring favorite old hymns and a few not-so-familiar ones. Joyce Painter Rice\, church Music Director\, will play tune Preludes on the church&rsquo\;s 1854 E. &amp\; G. G. Hook organ.
LOCATION:First Congregational Church of Kennebunkport
UID:e.1923.6945
SEQUENCE:3
DTSTAMP:20260424T101205Z
URL:https://chamber.gokennebunks.com/events/details/hymn-sing-with-hymn-preludes-6945
END:VEVENT

END:VCALENDAR
