BEGIN:VCALENDAR
VERSION:2.0
PRODID:-//ChamberMaster//Event Calendar 2.0//EN
METHOD:PUBLISH
X-PUBLISHED-TTL:P3D
REFRESH-INTERVAL:P3D
CALSCALE:GREGORIAN
BEGIN:VEVENT
DTSTART;VALUE=DATE:20230805
DTEND;VALUE=DATE:20230807
TRANSP:TRANSPARENT
X-MICROSOFT-CDO-ALLDAYEVENT:TRUE
SUMMARY:Hurlbutt Designs Annual Tent Sale
DESCRIPTION:Join us at our Annual Tent Sale! SAVE THE DATES! Saturday-Sunday | August 5-6 | 10am-5pm HURLBUTT DESIGNS ANNUAL TENT SALE Find the perfect look for any room at our annual tent sale. Explore our hand-picked\, coastal-inspired collection of home decor\, fine furniture\, pillows\, lighting\, rugs\, table settings\, bar accessories\, and more. Many of these items are last chance\, so don't miss out on something you love! We look forward to seeing you.
X-ALT-DESC;FMTTYPE=text/html:Join us at our Annual Tent Sale! SAVE THE DATES! Saturday-Sunday | August 5-6 | 10am-5pm HURLBUTT DESIGNS ANNUAL TENT SALE Find the perfect look for any room at our annual tent sale. Explore our hand-picked\, coastal-inspired collection of home decor\, fine furniture\, pillows\, lighting\, rugs\, table settings\, bar accessories\, and more. Many of these items are last chance\, so don&#39\;t miss out on something you love! We look forward to seeing you.
LOCATION:Hurlbutt Designs 51 Western Ave Kennebunk\, ME 04043
UID:e.1923.21511
SEQUENCE:3
DTSTAMP:20260422T045533Z
URL:https://chamber.gokennebunks.com/events/details/hurlbutt-designs-annual-tent-sale-21511
END:VEVENT

END:VCALENDAR
