BEGIN:VCALENDAR
VERSION:2.0
PRODID:-//ChamberMaster//Event Calendar 2.0//EN
METHOD:PUBLISH
X-PUBLISHED-TTL:P3D
REFRESH-INTERVAL:P3D
CALSCALE:GREGORIAN
BEGIN:VEVENT
DTSTART:20250522T220000Z
DTEND:20250522T233000Z
X-MICROSOFT-CDO-ALLDAYEVENT:FALSE
SUMMARY:How to Grow Cut Flowers
DESCRIPTION:Join Flora Brown\, Frinklepod Co-Owner & Flower Farmer\, as she walks you through all the basics of growing beautiful flowers to cut and arrange. New and veteran gardeners alike are welcome! What we cover will be largely driven by your questions\, so bring a list of them along with a notebook and boots for heading outside. This workshop is offered along with two vegetable gardening workshops (4/12 and 6/14) \; sign up for one\, two\, or all! Topics covered may include: Cool and warm weather varieties Choosing the right varieties for you Edible and Non-Toxic varieties Getting blooms all season long Speciality flowers like Tulips\, Dahlias\, Peonies Staking and trellising And more!
X-ALT-DESC;FMTTYPE=text/html:Join Flora Brown\, Frinklepod Co-Owner &amp\; Flower Farmer\, as she walks you through all the basics of growing beautiful flowers to cut and arrange. New and veteran gardeners alike are welcome! What we cover will be largely driven by your questions\, so bring a list of them along with a notebook and boots for heading outside. This workshop is offered along with two vegetable gardening workshops (4/12 and 6/14) \; sign up for one\, two\, or all! Topics covered may include: Cool and warm weather varieties Choosing the right varieties for you Edible and Non-Toxic varieties Getting blooms all season long Speciality flowers like Tulips\, Dahlias\, Peonies Staking and trellising And more!
LOCATION:Frinklepod Farm
UID:e.1923.34891
SEQUENCE:3
DTSTAMP:20260421T045901Z
URL:https://chamber.gokennebunks.com/events/details/how-to-grow-cut-flowers-34891
END:VEVENT

END:VCALENDAR
