BEGIN:VCALENDAR
VERSION:2.0
PRODID:-//ChamberMaster//Event Calendar 2.0//EN
METHOD:PUBLISH
X-PUBLISHED-TTL:P3D
REFRESH-INTERVAL:P3D
CALSCALE:GREGORIAN
BEGIN:VEVENT
DTSTART:20240321T160000Z
DTEND:20240321T170000Z
X-MICROSOFT-CDO-ALLDAYEVENT:FALSE
SUMMARY:"How Old Is My House?" Virtual Lecture
DESCRIPTION:Have you ever wondered how old your home really is? Do you wonder if the date written over the door is accurate? How do we know? And where do we begin?\n\n\n\nJoin the Museum via Zoom to learn from Preservation Architect and Historian\, Bryce Waldrop\, as we explore the historic records to help us better understand when and how your home came to be. Zoom in from the comfort of your favorite armchair\, grab your lunch and bring your questions! There will be time for Q&A at the end of the virtual presentation.\n\n \n\nJoin us in this second lecture in our new\, monthly "Your Old House: And Other Preservation Stories" series.\n\n\n\nCLICK HERE to register via Zoom!
X-ALT-DESC;FMTTYPE=text/html:<div>Have you ever wondered how old your home really is? Do you wonder if the date written over the door is accurate? How do we know? And where do we begin?<br />\n<br />\nJoin the Museum via Zoom to learn from Preservation Architect and Historian\, Bryce Waldrop\, as we explore the historic records to help us better understand when and how your home came to be. Zoom in from the comfort of your favorite armchair\, grab your lunch and bring your questions! There will be time for Q&amp\;A at the end of the virtual presentation.<br />\n&nbsp\;</div>\n\n<div>Join us in this second lecture in our new\, monthly &ldquo\;Your Old House: And Other Preservation Stories&rdquo\; series.<br />\n<br />\n<a href="https://us02web.zoom.us/meeting/register/tZcuduqspz8iGtTeRmH_K9MGDIA-Hknv0NsU">CLICK HERE</a> to register via Zoom!</div>\n
LOCATION:[Virtual event on brickstoremuseum.org]
UID:e.1923.24500
SEQUENCE:3
DTSTAMP:20260421T180440Z
URL:https://chamber.gokennebunks.com/events/details/how-old-is-my-house-virtual-lecture-24500
END:VEVENT

END:VCALENDAR
