BEGIN:VCALENDAR
VERSION:2.0
PRODID:-//ChamberMaster//Event Calendar 2.0//EN
METHOD:PUBLISH
X-PUBLISHED-TTL:P3D
REFRESH-INTERVAL:P3D
CALSCALE:GREGORIAN
BEGIN:VEVENT
DTSTART:20240426T223000Z
DTEND:20240427T020000Z
X-MICROSOFT-CDO-ALLDAYEVENT:FALSE
SUMMARY:House Party with Motor Booty Affair
DESCRIPTION:The Kennebunkport Heritage Housing Trust is excited to host a dance party to remember! We'll take to the floor to raise the roof - all to help us build affordable homes for working families and seniors. Your ticket includes the concert and a spread of light bites to keep your energy up while you Hustle\, Bus Stop\, and Funky Chicken with your friends. There will be a cash bar available and fun photo ops to capture the good times.
X-ALT-DESC;FMTTYPE=text/html:The Kennebunkport Heritage Housing Trust is excited to host a dance party to remember! We&rsquo\;ll take to the floor to raise the roof - all to help us build affordable homes for working families and seniors. Your ticket includes the concert and a spread of light bites to keep your energy up while you Hustle\, Bus Stop\, and Funky Chicken with your friends. There will be a cash bar available and fun photo ops to capture the good times.
LOCATION:The Nonantum Resort 95 Ocean Ave Kennebunkport\, ME
UID:e.1923.24494
SEQUENCE:3
DTSTAMP:20260421T170010Z
URL:https://chamber.gokennebunks.com/events/details/house-party-with-motor-booty-affair-24494
END:VEVENT

END:VCALENDAR
