BEGIN:VCALENDAR
VERSION:2.0
PRODID:-//ChamberMaster//Event Calendar 2.0//EN
METHOD:PUBLISH
X-PUBLISHED-TTL:P3D
REFRESH-INTERVAL:P3D
CALSCALE:GREGORIAN
BEGIN:VEVENT
DTSTART:20240912T200000Z
DTEND:20240912T220000Z
X-MICROSOFT-CDO-ALLDAYEVENT:FALSE
SUMMARY:Hospice of Southern Maine's Open House
DESCRIPTION:We hope you'll join us for our 20th Anniversary Open House. Come see our new Hospice Center\, enjoy some food and drink\, play lawn games\, and catch up with old (and new) friends as we celebrate this major milestone!
X-ALT-DESC;FMTTYPE=text/html:We hope you&rsquo\;ll join us for our 20th Anniversary Open House. Come see our new Hospice Center\, enjoy some food and drink\, play lawn games\, and catch up with old (and new) friends as we celebrate this major milestone!
LOCATION:Hospice Center 390 Route One\, Scarborough\, ME
UID:e.1923.30510
SEQUENCE:3
DTSTAMP:20260421T100209Z
URL:https://chamber.gokennebunks.com/events/details/hospice-of-southern-maine-s-open-house-30510
END:VEVENT

END:VCALENDAR
