BEGIN:VCALENDAR
VERSION:2.0
PRODID:-//ChamberMaster//Event Calendar 2.0//EN
METHOD:PUBLISH
X-PUBLISHED-TTL:P3D
REFRESH-INTERVAL:P3D
CALSCALE:GREGORIAN
BEGIN:VEVENT
DTSTART:20171024T130000Z
DTEND:20171024T140000Z
X-MICROSOFT-CDO-ALLDAYEVENT:FALSE
SUMMARY:Hospice of Southern Maine Community Forum: Prepare to Care: Completing an Advance Directive
DESCRIPTION:Hospice of Southern Maine is proud to host a series of Community Forums to guide community members on understanding and completing the Maine Health Care Advance Directive Form. End-of-life care decisions are some of the most difficult and complex decisions many of us will ever make. These free community forums will be facilitated by expert hospice and bereavement staff\, bringing highlights from this year's Thresholds Conference into the community. Based on Thresholds keynote from award-winning journalist\, bestselling author\, and former Good Morning America host\, Joan Lunden\, and the panel discussion with southern Maine medical experts\, these forums will provide a step-by-step guide on care decisions needed to complete the Maine Health Care Advance Directive form. What: Hospice of Southern Maine Community Health Forum When: Tuesday\, Oct. 24 9:00 a.m. Where: Kennebunk Senior Center\, 175 Port Road\, Kennebunk\, ME To register or for more information\, visit: http://www.hospiceofsouthernmaine.org/thresholds Contact: 207-289-3640 or info@hospiceofsouthernmaine.org
X-ALT-DESC;FMTTYPE=text/html:Hospice of Southern Maine is proud to host a series of Community Forums to guide community members on understanding and completing the Maine Health Care Advance Directive Form. End-of-life care decisions are some of the most difficult and complex decisions many of us will ever make. These free community forums will be facilitated by expert hospice and bereavement staff\, bringing highlights from this year&rsquo\;s Thresholds Conference into the community. Based on Thresholds keynote from award-winning journalist\, bestselling author\, and former Good Morning America host\, Joan Lunden\, and the panel discussion with southern Maine medical experts\, these forums will provide a step-by-step guide on care decisions needed to complete the Maine Health Care Advance Directive form. What: Hospice of Southern Maine Community Health Forum When: Tuesday\, Oct. 24 9:00 a.m. Where: Kennebunk Senior Center\, 175 Port Road\, Kennebunk\, ME To register or for more information\, visit: http://www.hospiceofsouthernmaine.org/thresholds Contact: 207-289-3640 or info@hospiceofsouthernmaine.org
LOCATION:Kennebunk Senior Center\, 175 Port Road\, Kennebunk\, ME
UID:e.1923.6933
SEQUENCE:3
DTSTAMP:20260426T012517Z
URL:https://chamber.gokennebunks.com/events/details/hospice-of-southern-maine-community-forum-prepare-to-care-completing-an-advance-directive-6933
END:VEVENT

END:VCALENDAR
