BEGIN:VCALENDAR
VERSION:2.0
PRODID:-//ChamberMaster//Event Calendar 2.0//EN
METHOD:PUBLISH
X-PUBLISHED-TTL:P3D
REFRESH-INTERVAL:P3D
CALSCALE:GREGORIAN
BEGIN:VEVENT
DTSTART:20180505T150000Z
DTEND:20180505T160000Z
X-MICROSOFT-CDO-ALLDAYEVENT:FALSE
SUMMARY:Horse Riding Lessons - Beg. Youth - Sat. at 11am (6wk session)
DESCRIPTION:Group lessons teach the basics of horsemanship and gradually build upon skills in the areas of English & Western Pleasure\, Ranch Riding\, Reining\, Jumping\, and more. Group lessons are a wonderful way to advance your riding skills.  You receive the same great instructions of a private lesson while being able to learn from others in the class at a less expensive rate.
X-ALT-DESC;FMTTYPE=text/html:Group lessons teach the basics of horsemanship and gradually build upon skills in the areas of English &amp\; Western Pleasure\, Ranch Riding\, Reining\, Jumping\, and more. Group lessons are a wonderful way to advance your riding skills.&nbsp\; You receive the same great instructions of a private lesson while being able to learn from others in the class at a less expensive rate.
LOCATION:Eastmark Farm 25 Eastmark Dr. Kennebunk\, ME 04043 www.eastmarkfarm.com/lessons 207-590-7528
UID:e.1923.9746
SEQUENCE:3
DTSTAMP:20260425T155453Z
URL:https://chamber.gokennebunks.com/events/details/horse-riding-lessons-beg-youth-sat-at-11am-6wk-session-05-05-2018-9746
END:VEVENT

END:VCALENDAR
