BEGIN:VCALENDAR
VERSION:2.0
PRODID:-//ChamberMaster//Event Calendar 2.0//EN
METHOD:PUBLISH
X-PUBLISHED-TTL:P3D
REFRESH-INTERVAL:P3D
CALSCALE:GREGORIAN
BEGIN:VEVENT
DTSTART:20180502T210000Z
DTEND:20180502T220000Z
X-MICROSOFT-CDO-ALLDAYEVENT:FALSE
SUMMARY:Horse Riding Lessons - ADULT all levels - Wed. at 5pm (6wk session)
DESCRIPTION:Always dreamed of riding a horse?  Been out of the saddle for many years?  This is the class for you!  Join like minded adults in a supportive and encouraging environment while we all learn the basics of horsemanship and gain a trust with our horse.  Each lesson will reinforce learned skills and introduce new ones.  Each student will be encouraged at their own comfort level.  Let's laugh\, learn\, and have fun on horses together.
X-ALT-DESC;FMTTYPE=text/html:Always dreamed of riding a horse?&nbsp\; Been out of the saddle for many years?&nbsp\; This is the class for you!&nbsp\; Join like minded adults in a supportive and encouraging environment while we all learn the basics of horsemanship and gain a trust with our horse.&nbsp\; Each lesson will reinforce learned skills and introduce new ones.&nbsp\; Each student will be encouraged at their own comfort level.&nbsp\; Let&#39\;s laugh\, learn\, and have fun on horses together.<br />\n&nbsp\;
LOCATION:Eastmark Farm 25 Eastmark Dr. Kennebunk\, ME 04043 www.eastmarkfarm.com/lessons 207-590-7528
UID:e.1923.9741
SEQUENCE:3
DTSTAMP:20260425T155850Z
URL:https://chamber.gokennebunks.com/events/details/horse-riding-lessons-adult-all-levels-wed-at-5pm-6wk-session-05-02-2018-9741
END:VEVENT

END:VCALENDAR
