BEGIN:VCALENDAR
VERSION:2.0
PRODID:-//ChamberMaster//Event Calendar 2.0//EN
METHOD:PUBLISH
X-PUBLISHED-TTL:P3D
REFRESH-INTERVAL:P3D
CALSCALE:GREGORIAN
BEGIN:VEVENT
DTSTART:20190803T220000Z
DTEND:20190804T020000Z
X-MICROSOFT-CDO-ALLDAYEVENT:FALSE
SUMMARY:Hook\, Line & Dinner
DESCRIPTION:Join Maine?s fishermen August 3rd on the water in Harpswell for the party of the summer.\n\nMaine Coast Fishermen?s Association host the fourth annual\, Hook\, Line & Dinner fundraiser to support sustainable fisheries\, vibrant fishing communities\, and Maine?s working waterfront. The seafood is fresh\, the beer is plentiful\, the dress is casual\, and the music makes you want to dance! \n\nTickets include a fresh locally caught seafood dinner from Maine?s fishermen\, beer from some of Maine's favorite brewers\, and an exclusive concert by Maine natives\, Sons of Quint.\n\nVIP tickets include ALL the perks of GA PLUS early admission starting at 4:30 p.m.\, private acoustic set by the band\, an oyster bar provided by Mere Point Oyster Company and Lanes Island Oyster Co.\, welcome toast\, priority seating\, and swag bag.\n\nFunds raised by Hook\, Line and Dinner supports Maine Coast Fishermen?s Association and its work to create sustainable fisheries in the Gulf of Maine\, protect access and the working waterfront\, and build vibrant fishing communities for this and the next generation of Maine fishermen.
X-ALT-DESC;FMTTYPE=text/html:Join Maine?s fishermen August 3rd on the water in Harpswell for the party of the summer.\n\nMaine Coast Fishermen?s Association host the fourth annual\, Hook\, Line &amp\; Dinner fundraiser to support sustainable fisheries\, vibrant fishing communities\, and Maine?s working waterfront. The seafood is fresh\, the beer is plentiful\, the dress is casual\, and the music makes you want to dance! \n\nTickets include a fresh locally caught seafood dinner from Maine?s fishermen\, beer from some of Maine's favorite brewers\, and an exclusive concert by Maine natives\, Sons of Quint.\n\nVIP tickets include ALL the perks of GA PLUS early admission starting at 4:30 p.m.\, private acoustic set by the band\, an oyster bar provided by Mere Point Oyster Company and Lanes Island Oyster Co.\, welcome toast\, priority seating\, and swag bag.\n\nFunds raised by Hook\, Line and Dinner supports Maine Coast Fishermen?s Association and its work to create sustainable fisheries in the Gulf of Maine\, protect access and the working waterfront\, and build vibrant fishing communities for this and the next generation of Maine fishermen. 
LOCATION:Cook's Lobster & Ale House 68 Garrison Cove Rd\, Bailey Island\, ME 04003
UID:e.1923.13385
SEQUENCE:3
DTSTAMP:20260424T165352Z
URL:https://chamber.gokennebunks.com/events/details/hook-line-dinner-13385
END:VEVENT

END:VCALENDAR
