BEGIN:VCALENDAR
VERSION:2.0
PRODID:-//ChamberMaster//Event Calendar 2.0//EN
METHOD:PUBLISH
X-PUBLISHED-TTL:P3D
REFRESH-INTERVAL:P3D
CALSCALE:GREGORIAN
BEGIN:VEVENT
DTSTART:20240425T160000Z
DTEND:20240530T180000Z
X-MICROSOFT-CDO-ALLDAYEVENT:FALSE
SUMMARY:HOMESCHOOL ART
DESCRIPTION:THURSDAYS\, 12:00-2:00PM\n\n6 weeks\; April 25   May 30 (makeup if RTA cancels a class: 6/6)\n\nRecommended age 7-12\n\nInstructor: Satsi Schimelpfenig\n\n\n\nThis series of art classes will offer young artists the opportunity to explore their creativity while using several different art mediums which may include ceramics\, painting\, drawing\, weaving\, and collage. Students will be encouraged to follow their own creative process with guidance from the instructor. Max attendees 8.\n\n\n\nREGISTER HERE: https://rivertree.app.neoncrm.com/np/clients/rivertree/event.jsp?event=12265&\n\n\n\nMembers: $225 | Non-Members: $255
X-ALT-DESC;FMTTYPE=text/html:THURSDAYS\, 12:00-2:00PM<br />\n6 weeks\; April 25 &ndash\; May 30 (makeup if RTA cancels a class: 6/6)<br />\nRecommended age 7-12<br />\nInstructor: Satsi Schimelpfenig<br />\n<br />\nThis series of art classes will offer young artists the opportunity to explore their creativity while using several different art mediums which may include ceramics\, painting\, drawing\, weaving\, and collage. Students will be encouraged to follow their own creative process with guidance from the instructor. Max attendees 8.<br />\n<br />\nREGISTER HERE:&nbsp\;<a href="https://rivertree.app.neoncrm.com/np/clients/rivertree/event.jsp?event=12265&amp\;">https://rivertree.app.neoncrm.com/np/clients/rivertree/event.jsp?event=12265&amp\;</a><br />\n<br />\nMembers: $225 | Non-Members: $255
LOCATION:River Tree Arts\, 35 Western Ave.\, Kennebunk\, Maine
UID:e.1923.24545
SEQUENCE:3
DTSTAMP:20260421T152949Z
URL:https://chamber.gokennebunks.com/events/details/homeschool-art-24545
END:VEVENT

END:VCALENDAR
