BEGIN:VCALENDAR
VERSION:2.0
PRODID:-//ChamberMaster//Event Calendar 2.0//EN
METHOD:PUBLISH
X-PUBLISHED-TTL:P3D
REFRESH-INTERVAL:P3D
CALSCALE:GREGORIAN
BEGIN:VEVENT
DTSTART:20191221T000000Z
DTEND:20191222T020000Z
X-MICROSOFT-CDO-ALLDAYEVENT:FALSE
SUMMARY:Holly Star
DESCRIPTION:After losing a dream job in New York City\, aspiring puppeteer Sloan Kelly returns to her small hometown in Maine to regroup. She ventures out only to reconnect with her salty grandmother and her slightly nutty\, paintball-obsessed best friend Kay K.\n\n\n\nDesperately in need of some holiday spending money\, Sloan takes a job selling Christmas trees\n\nwith her childhood sweetheart Andy.\n\n\n\nOne fateful day\, Sloan slips on the ice into the path of an oncoming truck. Her entire life flashes\n\nbefore her eyes\, and she remembers a night long ago when her grandfather   dressed as Santa\n\nClaus   buried a canvas sack somewhere in the middle of town.\n\n\n\nAnd she remembers\, too\, what was in the sack   cash\, lots and lots of cash. Where did the money\n\ncome from? Why did her grandfather bury it? And\, most importantly\, where is it now?\n\n\n\nThus begins a comedic treasure hunt as Sloan searches for clues to the cold Christmas cash.
X-ALT-DESC;FMTTYPE=text/html:After losing a dream job in New York City\, aspiring puppeteer Sloan Kelly returns to her small&nbsp\;hometown in Maine to regroup. She ventures out only to reconnect with her salty grandmother and&nbsp\;her slightly nutty\, paintball-obsessed best friend Kay K.<br />\n<br />\nDesperately in need of some holiday spending money\, Sloan takes a job selling Christmas trees<br />\nwith her childhood sweetheart Andy.<br />\n<br />\nOne fateful day\, Sloan slips on the ice into the path of an oncoming truck. Her entire life flashes<br />\nbefore her eyes\, and she remembers a night long ago when her grandfather &ndash\; dressed as Santa<br />\nClaus &ndash\; buried a canvas sack somewhere in the middle of town.<br />\n<br />\nAnd she remembers\, too\, what was in the sack &ndash\; cash\, lots and lots of cash. Where did the money<br />\ncome from? Why did her grandfather bury it? And\, most importantly\, where is it now?<br />\n<br />\nThus begins a comedic treasure hunt as Sloan searches for clues to the cold Christmas cash.<br />\n&nbsp\;
LOCATION:The City Theater\, 205 Main Street\, Biddeford\, Maine
UID:e.1923.15572
SEQUENCE:3
DTSTAMP:20260424T124357Z
URL:https://chamber.gokennebunks.com/events/details/holly-star-15572
END:VEVENT

END:VCALENDAR
