BEGIN:VCALENDAR
VERSION:2.0
PRODID:-//ChamberMaster//Event Calendar 2.0//EN
METHOD:PUBLISH
X-PUBLISHED-TTL:P3D
REFRESH-INTERVAL:P3D
CALSCALE:GREGORIAN
BEGIN:VEVENT
DTSTART;VALUE=DATE:20180526
DTEND;VALUE=DATE:20180617
TRANSP:TRANSPARENT
X-MICROSOFT-CDO-ALLDAYEVENT:TRUE
SUMMARY:Holly Ready Show
DESCRIPTION:Art Show for Holly Ready Artist Reception from 5-7 on Saturday\, May 26
X-ALT-DESC;FMTTYPE=text/html:Art Show for Holly Ready Artist Reception from 5-7 on Saturday\, May 26
LOCATION:The Gallery on Maine Art Hill
UID:e.1923.9784
SEQUENCE:3
DTSTAMP:20260425T143027Z
URL:https://chamber.gokennebunks.com/events/details/holly-ready-show-9784
END:VEVENT

END:VCALENDAR
