BEGIN:VCALENDAR
VERSION:2.0
PRODID:-//ChamberMaster//Event Calendar 2.0//EN
METHOD:PUBLISH
X-PUBLISHED-TTL:P3D
REFRESH-INTERVAL:P3D
CALSCALE:GREGORIAN
BEGIN:VEVENT
DTSTART:20241214T140000Z
DTEND:20241214T210000Z
X-MICROSOFT-CDO-ALLDAYEVENT:FALSE
SUMMARY:Holiday Fair
DESCRIPTION:Join us the Center's Holiday Fair featuring handcrafted boxwood trees\, beautifully decorated wreaths and swags\, an artisan market featuring locally made crafts\, a gourmet cocoa and mulled cider bar\, and much\, much\, more!
X-ALT-DESC;FMTTYPE=text/html:Join us the Center&#39\;s Holiday Fair featuring handcrafted boxwood trees\, beautifully decorated wreaths and swags\, an artisan market featuring locally made crafts\, a gourmet cocoa and mulled cider bar\, and much\, much\, more!
LOCATION:175 Port Road Kennebunk\, Maine 04043
UID:e.1923.30955
SEQUENCE:3
DTSTAMP:20260421T020423Z
URL:https://chamber.gokennebunks.com/events/details/holiday-fair-12-14-2024-30955
END:VEVENT

END:VCALENDAR
