BEGIN:VCALENDAR
VERSION:2.0
PRODID:-//ChamberMaster//Event Calendar 2.0//EN
METHOD:PUBLISH
X-PUBLISHED-TTL:P3D
REFRESH-INTERVAL:P3D
CALSCALE:GREGORIAN
BEGIN:VEVENT
DTSTART:20251120T050000Z
DTEND:20251209T045500Z
X-MICROSOFT-CDO-ALLDAYEVENT:FALSE
SUMMARY:Holiday Cyber Sale
DESCRIPTION:The countdown is on to SAVE UP TO 40% OFF stays at all ten Kennebunkport Resort Collection hotels! Our Holiday Cyber Sale the biggest of the year beginning on November 18th - December 8th\, gives you an exclusive offer to book your dream coastal Maine getaway. With a special Black Friday and Cyber Monday combination deal\, these luxurious escapes are available at an unbeatable price. Stay tuned for our annual Gift Card Sale coming soon on December 10 + 11!
X-ALT-DESC;FMTTYPE=text/html:The countdown is on to SAVE UP TO 40% OFF stays at all ten Kennebunkport Resort Collection hotels! Our Holiday Cyber Sale&mdash\;the biggest of the year&mdash\;beginning on November 18th - December 8th\, gives you an exclusive offer to book your dream coastal Maine getaway. With a special Black Friday and Cyber Monday combination deal\, these luxurious escapes are available at an unbeatable price. Stay tuned for our annual Gift Card Sale coming soon on December 10 + 11!
LOCATION:
UID:e.1923.38166
SEQUENCE:3
DTSTAMP:20260421T170517Z
URL:https://chamber.gokennebunks.com/events/details/holiday-cyber-sale-38166
END:VEVENT

END:VCALENDAR
