BEGIN:VCALENDAR
VERSION:2.0
PRODID:-//ChamberMaster//Event Calendar 2.0//EN
METHOD:PUBLISH
X-PUBLISHED-TTL:P3D
REFRESH-INTERVAL:P3D
CALSCALE:GREGORIAN
BEGIN:VEVENT
DTSTART:20241207T140000Z
DTEND:20241207T210000Z
X-MICROSOFT-CDO-ALLDAYEVENT:FALSE
SUMMARY:Holiday Craft Fair and Chili & Chowder Lunch
DESCRIPTION:Join us at the Community House on Saturday\, December 7th from 9am - 4pm for a holiday craft fair! In addition\, stop by between 11:30am - 2pm* to enjoy a chili or chowder lunch! \n\n\n\n*2pm or until sell-out.
X-ALT-DESC;FMTTYPE=text/html:Join us at the Community House on Saturday\, December 7th from 9am - 4pm for a holiday craft fair! In addition\, stop by between 11:30am - 2pm* to enjoy a chili or chowder lunch!&nbsp\;<br />\n<br />\n<span style="font-size:12px"><em>*2pm or until sell-out.&nbsp\;</em></span>
LOCATION:The Community House 8 Temple St.\, Kennebunkport
UID:e.1923.31158
SEQUENCE:3
DTSTAMP:20260421T021647Z
URL:https://chamber.gokennebunks.com/events/details/holiday-craft-fair-and-chili-chowder-lunch-31158
END:VEVENT

END:VCALENDAR
