BEGIN:VCALENDAR
VERSION:2.0
PRODID:-//ChamberMaster//Event Calendar 2.0//EN
METHOD:PUBLISH
X-PUBLISHED-TTL:P3D
REFRESH-INTERVAL:P3D
CALSCALE:GREGORIAN
BEGIN:VEVENT
DTSTART:20191215T200000Z
DTEND:20191215T220000Z
X-MICROSOFT-CDO-ALLDAYEVENT:FALSE
SUMMARY:Holiday Candlelight Stroll
DESCRIPTION:Visit five historic immigrant families (reenactors) who lived in Kennebunk circa 1900\, in an immersive program that discusses to cultural traditions\, celebrations\, and foods brought to this area from Scandinavia\, Scotland\, Russia\, and more.\n\n\n\nTickets: $10 per person\, $5 Members\, Under 16 free.\n\n\n\nCall 985-4802 or visit www.brickstoremuseum.org for more information.
X-ALT-DESC;FMTTYPE=text/html:Visit five historic immigrant families (reenactors) who lived in Kennebunk circa 1900\, in an immersive program that discusses to cultural traditions\, celebrations\, and foods brought to this area from Scandinavia\, Scotland\, Russia\, and more.<br />\n<br />\nTickets: $10 per person\, $5 Members\, Under 16 free.<br />\n<br />\nCall 985-4802 or visit <a href="http://www.brickstoremuseum.org/">www.brickstoremuseum.org</a> for more information.<br />\n&nbsp\;
LOCATION:Brick Store Museum 117 Main Street Kennebunk\, ME 04043
UID:e.1923.15571
SEQUENCE:3
DTSTAMP:20260424T113157Z
URL:https://chamber.gokennebunks.com/events/details/holiday-candlelight-stroll-12-15-2019-15571
END:VEVENT

END:VCALENDAR
