BEGIN:VCALENDAR
VERSION:2.0
PRODID:-//ChamberMaster//Event Calendar 2.0//EN
METHOD:PUBLISH
X-PUBLISHED-TTL:P3D
REFRESH-INTERVAL:P3D
CALSCALE:GREGORIAN
BEGIN:VEVENT
DTSTART;VALUE=DATE:20241214
DTEND;VALUE=DATE:20241215
TRANSP:TRANSPARENT
X-MICROSOFT-CDO-ALLDAYEVENT:TRUE
SUMMARY:Holiday Campground Crawl
DESCRIPTION:Discover the magic of the holiday season with the Holiday Campground Crawl\, a festive event hosted by three local campgrounds in southern Maine! Guests are invited to enjoy complimentary cookies and hot chocolate while exploring these welcoming camping destinations. This is the perfect opportunity to make plans for your 2025 camping adventures!  \n\n\n	Warm up with holiday treats\, including cookies and hot chocolate.\n	Explore each campground's unique offerings for the upcoming camping season.\n	Meet staff and learn about amenities\, site availability\, and special events for 2025.\n\nRegister here: https://lp.constantcontactpages.com/ev/reg/bnaedcw
X-ALT-DESC;FMTTYPE=text/html:<div>\n<div>\n<div>\n<div>&nbsp\;</div>\n</div>\n</div>\n</div>\n\n<div>\n<p>Discover the magic of the holiday season with the <strong>Holiday Campground Crawl</strong>\, a festive event hosted by three local campgrounds in southern Maine! Guests are invited to enjoy complimentary cookies and hot chocolate while exploring these welcoming camping destinations. This is the perfect opportunity to make plans for your 2025 camping adventures!&nbsp\;&nbsp\;</p>\n\n<ul>\n	<li>Warm up with holiday treats\, including cookies and hot chocolate.</li>\n	<li>Explore each campground&#39\;s unique offerings for the upcoming camping season.</li>\n	<li>Meet staff and learn about amenities\, site availability\, and special events for 2025.</li>\n</ul>\nRegister here:&nbsp\;<a href="https://lp.constantcontactpages.com/ev/reg/bnaedcw">https://lp.constantcontactpages.com/ev/reg/bnaedcw</a></div>\n
LOCATION:Meet Santa! Spacious Skies Campgrounds - Walnut Grove Campground 599 Gore Rd\, Alfred\, ME 04002 (207) 324-1207 spaciousskiescampgrounds.com Riverside Family Campground 2295 Post Rd\, Wells\, ME 04090 (207) 646-3145 riversidecampground-wells.com Thousand Trails Moody Beach RV 266 Post Road\, Wells\, ME 04090 (207) 646-4586 thousandtrails.com
UID:e.1923.31174
SEQUENCE:3
DTSTAMP:20260421T020230Z
URL:https://chamber.gokennebunks.com/events/details/holiday-campground-crawl-31174
END:VEVENT

END:VCALENDAR
