BEGIN:VCALENDAR
VERSION:2.0
PRODID:-//ChamberMaster//Event Calendar 2.0//EN
METHOD:PUBLISH
X-PUBLISHED-TTL:P3D
REFRESH-INTERVAL:P3D
CALSCALE:GREGORIAN
BEGIN:VEVENT
DTSTART:20231207T220000Z
DTEND:20231208T000000Z
X-MICROSOFT-CDO-ALLDAYEVENT:FALSE
SUMMARY:HOLIDAY BOOK & ART SALE
DESCRIPTION:Thursday\, December 7 at 5 PM. Holiday Book & Art Sale. Stroll on down to the Graves Library on Maine Street in Kennebunkport for your holiday shopping. The Book Cellar is well stocked with new and gently used books\, puzzles\, note cards\, mugs\, hats\, CDs and more. You are sure to find the perfect gift for that swap\, host or hostess\, or that lover of all things Kennebunkport   the 2-volume set of the History of Kennebunkport\, by local resident and historian\, Joyce Butler. The Louis T. Graves Memorial Public Library is located at 18 Maine Street\, Kennebunkport. For further information\, please call 967-2778 or visit our website at www.graveslibrary.org.
X-ALT-DESC;FMTTYPE=text/html:<span style="font-family:arial\,sans-serif">Thursday\, December 7 at 5 PM. <strong>Holiday Book &amp\; Art Sale.</strong> Stroll on down to the Graves Library on Maine Street in Kennebunkport for your holiday shopping. The Book Cellar is well stocked with new and gently used books\, puzzles\, note cards\, mugs\, hats\, CDs and more. You are sure to find the perfect gift for that swap\, host or hostess\, or that lover of all things Kennebunkport &ndash\; the 2-volume set of the History of Kennebunkport\, by local resident and historian\, Joyce Butler. The Louis T. Graves Memorial Public Library is located at 18 Maine Street\, Kennebunkport. For further information\, please call 967-2778 or visit our website at www.graveslibrary.org.</span>
LOCATION:The Louis T. Graves Memorial Public Library is located at 18 Maine Street\, Kennebunkport. For further information\, please call 967-2778 or visit our website at www.graveslibrary.org.
UID:e.1923.23142
SEQUENCE:3
DTSTAMP:20260421T232115Z
URL:https://chamber.gokennebunks.com/events/details/holiday-book-art-sale-23142
END:VEVENT

END:VCALENDAR
