BEGIN:VCALENDAR
VERSION:2.0
PRODID:-//ChamberMaster//Event Calendar 2.0//EN
METHOD:PUBLISH
X-PUBLISHED-TTL:P3D
REFRESH-INTERVAL:P3D
CALSCALE:GREGORIAN
BEGIN:VEVENT
DTSTART:20190713T140000Z
DTEND:20190713T180000Z
X-MICROSOFT-CDO-ALLDAYEVENT:FALSE
SUMMARY:History Field Day!
DESCRIPTION:The ?Kennebunk Heritage & Culture Festival? Field Day features free fun for families! Join us at Parsons Field in Kennebunk for activities\, reenactors\, and picnic lunches\; plus crafters\, artists\, vendors and organizations showing off everything relating to culture in the Kennebunks. \n\n\n\nThe event runs from 10:00am to 2:00pm at Parson's Field at the Brick Store Museum!
X-ALT-DESC;FMTTYPE=text/html:The ?Kennebunk Heritage &amp\; Culture Festival? Field Day features free fun for families! Join us at Parsons Field in Kennebunk for activities\, reenactors\, and picnic lunches\; plus crafters\, artists\, vendors and organizations showing off everything relating to culture in the Kennebunks.&nbsp\;<br>\n<br>\nThe event runs from 10:00am to 2:00pm at Parson's Field at the Brick Store Museum!
LOCATION:Brick Store Museum 117 Main Street Kennebunk\, ME 04043
UID:e.1923.13384
SEQUENCE:3
DTSTAMP:20260424T182700Z
URL:https://chamber.gokennebunks.com/events/details/history-field-day-13384
END:VEVENT

END:VCALENDAR
