BEGIN:VCALENDAR
VERSION:2.0
PRODID:-//ChamberMaster//Event Calendar 2.0//EN
METHOD:PUBLISH
X-PUBLISHED-TTL:P3D
REFRESH-INTERVAL:P3D
CALSCALE:GREGORIAN
BEGIN:VEVENT
DTSTART:20180726T180000Z
DTEND:20180726T193000Z
X-MICROSOFT-CDO-ALLDAYEVENT:FALSE
SUMMARY:Historic Walking Tours of Kennebunk Beach
DESCRIPTION:Historic Walking Tours of Kennebunk Beach! Every Thursday at 2:00pm!\n\n\n\nMeet your Brick Store Museum tour guide at Trinity Chapel (at the corner of Railroad and Woodland Avenues) at 2:00pm and visit 12 locations along the beach to learn more about the development of the beach and the people who lived there at the turn of the 20th Century. \n\n\n\nAdmission: $10 per pseron\, $5 for members. Tickets can be purchased with cash on-site\, or via credit card online at http://www.brickstoremuseum.org/product/beachtour/. \n\n\n\nTours run every Thursday from June 22 through October 5. \n\n\n\nNo reservations needed! Special group tours can be arranged by calling the Museum at (207)985-4802.
X-ALT-DESC;FMTTYPE=text/html:Historic Walking Tours of Kennebunk Beach! Every Thursday at 2:00pm!<br />\n<br />\nMeet your Brick Store Museum tour guide at Trinity Chapel (at the corner of Railroad and Woodland Avenues) at 2:00pm and visit 12 locations along the beach to learn more about the development of the beach and the people who lived there at the turn of the 20th Century.&nbsp\;<br />\n<br />\nAdmission: $10 per pseron\, $5 for members. Tickets can be purchased with cash on-site\, or via credit card online at http://www.brickstoremuseum.org/product/beachtour/.&nbsp\;<br />\n<br />\nTours run every Thursday from June 22 through October 5.&nbsp\;<br />\n<br />\nNo reservations needed! Special group tours can be arranged by calling the Museum at (207)985-4802.
LOCATION:In Front of Trinity Chapel At the corner of Railroad Avenue and Woodland Avenue Kennebunk\, Maine\, 04043
UID:e.1923.11455
SEQUENCE:3
DTSTAMP:20260425T133120Z
URL:https://chamber.gokennebunks.com/events/details/historic-walking-tours-of-kennebunk-beach-07-26-2018-11455
END:VEVENT

END:VCALENDAR
