BEGIN:VCALENDAR
VERSION:2.0
PRODID:-//ChamberMaster//Event Calendar 2.0//EN
METHOD:PUBLISH
X-PUBLISHED-TTL:P3D
REFRESH-INTERVAL:P3D
CALSCALE:GREGORIAN
BEGIN:VEVENT
DTSTART:20190713T190000Z
DTEND:20190713T210000Z
X-MICROSOFT-CDO-ALLDAYEVENT:FALSE
SUMMARY:Historic Garden Party
DESCRIPTION:The "Kennebunk Heritage & Culture Festival" Historic Garden Party invites attendees to enjoy iced tea and hors d'oeuvres while touring the c.1875 George Lord Little Home at 38 Summer Street. \n\nTickets cost $35 per person\, or $12 for those under 16. To purchase tickets please call the Brick Store Museum at 207-985-4802\, or visit our website at http://www.brickstoremuseum.org/product/summer-garden-party-summer-street/. Tickets must be purchased in advance of the event.
X-ALT-DESC;FMTTYPE=text/html:<p>The &ldquo\;Kennebunk Heritage &amp\; Culture Festival&rdquo\; Historic Garden Party invites attendees to enjoy iced tea and hors d&rsquo\;oeuvres while touring the c.1875 George Lord Little Home at 38 Summer Street.&nbsp\;</p>\n\n<p>Tickets&nbsp\;cost $35 per person\, or $12 for those under 16. To purchase tickets please call the Brick Store Museum at 207-985-4802\, or visit our website at&nbsp\;<a href="http://www.brickstoremuseum.org/product/summer-garden-party-summer-street/">http://www.brickstoremuseum.org/product/summer-garden-party-summer-street/</a>. Tickets must be purchased in advance of the event.&nbsp\;</p>\n
LOCATION:George Lord Little Home 38 Summer Street Kennebunk\, ME 04043
UID:e.1923.13386
SEQUENCE:3
DTSTAMP:20260424T194406Z
URL:https://chamber.gokennebunks.com/events/details/historic-garden-party-13386
END:VEVENT

END:VCALENDAR
