BEGIN:VCALENDAR
VERSION:2.0
PRODID:-//ChamberMaster//Event Calendar 2.0//EN
METHOD:PUBLISH
X-PUBLISHED-TTL:P3D
REFRESH-INTERVAL:P3D
CALSCALE:GREGORIAN
BEGIN:VEVENT
DTSTART:20231014T122500Z
DTEND:20231014T150000Z
X-MICROSOFT-CDO-ALLDAYEVENT:FALSE
SUMMARY:Hike for Hospice
DESCRIPTION:Join us on Saturday\, October 14\, 2023 to Hike for Hospice together. All walkers will meet at HSM's Hospice Center\, located at 390 US Route One in Scarborough\, and walk from there to connect with the Eastern Trail. Walk in memory of a loved one\, or to honor someone special in your life. No matter who or what inspires your walk\, your participation will raise awareness and funds for patient and family care at end of life. $25 registration
X-ALT-DESC;FMTTYPE=text/html:Join us on Saturday\, October 14\, 2023 to Hike for Hospice together. All walkers will meet at HSM&#39\;s Hospice Center\, located at 390 US Route One in Scarborough\, and walk from there to connect with the Eastern Trail. Walk in memory of a loved one\, or to honor someone special in your life. No matter who or what inspires your walk\, your participation will raise awareness and funds for patient and family care at end of life. $25 registration
LOCATION:390 US Route One\, Scarborough\, ME 04074
UID:e.1923.22396
SEQUENCE:3
DTSTAMP:20260422T004730Z
URL:https://chamber.gokennebunks.com/events/details/hike-for-hospice-22396
END:VEVENT

END:VCALENDAR
