BEGIN:VCALENDAR
VERSION:2.0
PRODID:-//ChamberMaster//Event Calendar 2.0//EN
METHOD:PUBLISH
X-PUBLISHED-TTL:P3D
REFRESH-INTERVAL:P3D
CALSCALE:GREGORIAN
BEGIN:VEVENT
DTSTART:20180915T140000Z
DTEND:20180915T200000Z
X-MICROSOFT-CDO-ALLDAYEVENT:FALSE
SUMMARY:Heritage Day
DESCRIPTION:Arundel's annual community festival- music food \, exhibits\, horserides\, old engines\, livestock\, childrens games\,Civil War reenactment\, pie contest\, crafts and vendors
X-ALT-DESC;FMTTYPE=text/html:Arundel&#39\;s annual community festival- music food \, exhibits\, horserides\, old engines\, livestock\, childrens games\,Civil War reenactment\, pie contest\, crafts and vendors
LOCATION:North Chapel Common Site(corner of Limerick Road and Rt.111)
UID:e.1923.6998
SEQUENCE:3
DTSTAMP:20260425T103846Z
URL:https://chamber.gokennebunks.com/events/details/heritage-day-09-15-2018-6998
END:VEVENT

END:VCALENDAR
