BEGIN:VCALENDAR
VERSION:2.0
PRODID:-//ChamberMaster//Event Calendar 2.0//EN
METHOD:PUBLISH
X-PUBLISHED-TTL:P3D
REFRESH-INTERVAL:P3D
CALSCALE:GREGORIAN
BEGIN:VEVENT
DTSTART:20230816T220000Z
DTEND:20230816T230000Z
X-MICROSOFT-CDO-ALLDAYEVENT:FALSE
SUMMARY:HENRY LOWERY CONCERT
DESCRIPTION:Wednesday\, August 16\, 6 PM. Henry Lowery Concert. Louis T. Graves Memorial Public Library\,18 Maine Street\, Kennebunkport. Join us for some good vibes and live music in the garden at Graves Library Summer Music Series. Bring your friends\, bring your chair\, sit back\, tap your feet\, and listen to some local beat. Henry is a Kennebunk High School graduate that plays an array of country and blues on his guitar. You can recognize Henry sporting his signature cowboy hat and red checkered shirt at many locations in southern Maine. A true talent to the music world! A suggested donation of $10 per person would be appreciated. This event will be held in the community room if it rains. Parking is available on Maine Street or at Consolidated School. For further information\, please call 967-2778 or visit our website at www.graveslibrary.org.
X-ALT-DESC;FMTTYPE=text/html:Wednesday\, August 16\, 6 PM. Henry Lowery Concert. Louis T. Graves Memorial Public Library\,18 Maine Street\, Kennebunkport. Join us for some good vibes and live music in the garden at Graves Library Summer Music Series. Bring your friends\, bring your chair\, sit back\, tap your feet\, and listen to some local beat. Henry is a Kennebunk High School graduate that plays an array of country and blues on his guitar. You can recognize Henry sporting his signature cowboy hat and red checkered shirt at many locations in southern Maine. A true talent to the music world! A suggested donation of $10 per person would be appreciated. This event will be held in the community room if it rains. Parking is available on Maine Street or at Consolidated School. For further information\, please call 967-2778 or visit our website at www.graveslibrary.org.
LOCATION:Louis T. Graves Memorial Public Library\,18 Maine Street\, Kennebunkport.
UID:e.1923.21940
SEQUENCE:3
DTSTAMP:20260422T033605Z
URL:https://chamber.gokennebunks.com/events/details/henry-lowery-concert-21940
END:VEVENT

END:VCALENDAR
