BEGIN:VCALENDAR
VERSION:2.0
PRODID:-//ChamberMaster//Event Calendar 2.0//EN
METHOD:PUBLISH
X-PUBLISHED-TTL:P3D
REFRESH-INTERVAL:P3D
CALSCALE:GREGORIAN
BEGIN:VEVENT
DTSTART:20260207T210000Z
DTEND:20260207T233000Z
X-MICROSOFT-CDO-ALLDAYEVENT:FALSE
SUMMARY:heat things up: couples flow + sauna
DESCRIPTION:flow\, connect + recharge together. this feel-good couples experience starts on the mat with a guided vinyasa flow designed to deepen presence\, build trust + invite a little playful connection through movement + breath. expect moments of strength\, softness + shared smiles along the way.\n\n\n\nafter class\, the magic continues in recovery cove. sink into the ultimate reset as you rotate through the sauna\, steam room + cold plunge\, boosting circulation\, melting tension + leaving you both blissfully refreshed.\n\n\n\nwrap it all up with light snacks + refreshing drinks\, cozy vibes + time to linger\, relax + reconnect. think warm hearts\, happy bodies + a perfect excuse for a date that feels both nourishing + fun.\n\n\n\nreserve your spot here:\n\nhttps://www.thedailysweatkennebunk.com/book-a-class
X-ALT-DESC;FMTTYPE=text/html:flow\, connect + recharge together. this feel-good couples experience starts on the mat with a guided vinyasa flow designed to deepen presence\, build trust + invite a little playful connection through movement + breath. expect moments of strength\, softness + shared smiles along the way.<br />\n<br />\nafter class\, the magic continues in recovery cove. sink into the ultimate reset as you rotate through the sauna\, steam room + cold plunge\, boosting circulation\, melting tension + leaving you both blissfully refreshed.<br />\n<br />\nwrap it all up with light snacks + refreshing drinks\, cozy vibes + time to linger\, relax + reconnect. think warm hearts\, happy bodies + a perfect excuse for a date that feels both nourishing + fun.<br />\n<br />\nreserve your spot here:<br />\nhttps://www.thedailysweatkennebunk.com/book-a-class
LOCATION:65 Portland RD\, Kennebunk ME\, 04043
UID:e.1923.38364
SEQUENCE:3
DTSTAMP:20260421T204602Z
URL:https://chamber.gokennebunks.com/events/details/heat-things-up-couples-flow-sauna-38364
END:VEVENT

END:VCALENDAR
