BEGIN:VCALENDAR
VERSION:2.0
PRODID:-//ChamberMaster//Event Calendar 2.0//EN
METHOD:PUBLISH
X-PUBLISHED-TTL:P3D
REFRESH-INTERVAL:P3D
CALSCALE:GREGORIAN
BEGIN:VEVENT
DTSTART:20231114T153000Z
DTEND:20231114T160000Z
X-MICROSOFT-CDO-ALLDAYEVENT:FALSE
SUMMARY:HARVEST STORY TIME
DESCRIPTION:Tuesday\, November 14 at 10:30 AM. Special Harvest Story Time. Our friend Flora the Farmer from Frinklepod Farm will be here on Tuesday\, November 14 at 10:30 a.m. for a special harvest story time. Frinklepod Farm is located at 244 Log Cabin Road. Frinklepod's mission is to help us eat more plants and feel connected to the land\, the farmers\, and our community! Come dig your own potatoes and carrots\, dress to get dirty. Enjoy farm stories and activities! Space is limited and pre-registration is required. The Louis T. Graves Memorial Public Library is located at 18 Maine Street\, Kennebunkport. For further information\, please call 967-2778 or visit our website at www.graveslibrary.org.
X-ALT-DESC;FMTTYPE=text/html:<span style="font-family:arial\,sans-serif">Tuesday\, November 14 at 10:30 AM. <strong>Special Harvest Story Time.</strong> Our friend Flora the Farmer from Frinklepod Farm will be here on Tuesday\, November 14 at 10:30 a.m. for a special harvest story time. Frinklepod Farm is located at 244 Log Cabin Road.&nbsp\;Frinklepod&rsquo\;s mission is to help us eat more plants and feel connected to the land\, the farmers\, and our community! Come dig your own potatoes and carrots\, dress to get dirty. Enjoy farm stories and activities! Space is limited and pre-registration is required. The Louis T. Graves Memorial Public Library is located at 18 Maine Street\, Kennebunkport. For further information\, please call 967-2778 or visit our website at </span><a href="http://www.graveslibrary.org/"><span style="color:windowtext"><span style="font-family:arial\,sans-serif">www.graveslibrary.org</span></span></a><span style="font-family:arial\,sans-serif">.</span>
LOCATION:Louis T. Graves Memorial Public Library\, 18 Maine Street\, Kennebunkport
UID:e.1923.23067
SEQUENCE:3
DTSTAMP:20260421T231905Z
URL:https://chamber.gokennebunks.com/events/details/harvest-story-time-23067
END:VEVENT

END:VCALENDAR
