BEGIN:VCALENDAR
VERSION:2.0
PRODID:-//ChamberMaster//Event Calendar 2.0//EN
METHOD:PUBLISH
X-PUBLISHED-TTL:P3D
REFRESH-INTERVAL:P3D
CALSCALE:GREGORIAN
BEGIN:VEVENT
DTSTART:20250117T150000Z
DTEND:20250117T160000Z
X-MICROSOFT-CDO-ALLDAYEVENT:FALSE
SUMMARY:HARVEST STORY TIME
DESCRIPTION:Friday\, January 17 at 10 AM. Special Harvest Story Time. Our friend Flora\, the Farmer from Frinklepod Farm\, will be here for a special harvest story time. Dig for carrots and potatoes! Frinklepod Farm is located at 244 Log Cabin Road. Frinklepod's mission is to help us eat more plants and feel connected to the land\, the farmers\, and our community! Enjoy farm stories and activities! Space is limited\, and pre-registration is required. The Louis T. Graves Memorial Public Library is located at 18 Maine Street\, Kennebunkport. For further information\, please call 967-2778 or visit our website at www.graveslibrary.org.
X-ALT-DESC;FMTTYPE=text/html:<span style="font-family:arial\,sans-serif">Friday\, January 17 at 10 AM. <strong>Special Harvest Story Time.</strong> Our friend Flora\, the Farmer from Frinklepod Farm\, will be here for a special harvest story time. Dig for carrots and potatoes! Frinklepod Farm is located at 244 Log Cabin Road. Frinklepod&rsquo\;s mission is to help us eat more plants and feel connected to the land\, the farmers\, and our community! Enjoy farm stories and activities! Space is limited\, and pre-registration is required. The Louis T. Graves Memorial Public Library is located at 18 Maine Street\, Kennebunkport. For further information\, please call 967-2778 or visit our website at </span><a href="http://www.graveslibrary.org/"><span style="font-family:arial\,sans-serif">www.graveslibrary.org</span></a><span style="font-family:arial\,sans-serif">.</span>
LOCATION:The Louis T. Graves Memorial Public Library is located at 18 Maine Street\, Kennebunkport. For further information\, please call 967-2778 or visit our website at www.graveslibrary.org.
UID:e.1923.31455
SEQUENCE:3
DTSTAMP:20260421T020423Z
URL:https://chamber.gokennebunks.com/events/details/harvest-story-time-01-17-2025-31455
END:VEVENT

END:VCALENDAR
