BEGIN:VCALENDAR
VERSION:2.0
PRODID:-//ChamberMaster//Event Calendar 2.0//EN
METHOD:PUBLISH
X-PUBLISHED-TTL:P3D
REFRESH-INTERVAL:P3D
CALSCALE:GREGORIAN
BEGIN:VEVENT
DTSTART:20241013T160000Z
DTEND:20241013T210000Z
X-MICROSOFT-CDO-ALLDAYEVENT:FALSE
SUMMARY:Harvest Chill Fall Festival
DESCRIPTION:It's back\, baby! The second annual Harvest Chill Fall Festival at Vinegar Hill!  \n\n \n\nThis is a free\, community-centered event that highlights all the wonderful things that make fall in New England so special! Last year blew our expectations out of the water\, and this year we're looking to make this annual celebration even better!  \n\nHere's what you can look forward to:  \n\n\n	A full day of music from local musicians (official lineup coming soon!) \n	Our friends at School Around Us will be back holding down the children's activity station\, this year featuring pumpkin painting\, face painting\, and a maker station!  \n	Local food trucks including Pat's Apple Crisp & Cider Donuts and Maine Diner on the Go!  \n	A 20-booth Makers' Market featuring fall crafts from local creators! \n	Indoor and outdoor bars featuring a selection of seasonal local beers and fall cocktails!  \n	Endless vibes!
X-ALT-DESC;FMTTYPE=text/html:<h4>It&rsquo\;s back\, baby! The second annual Harvest Chill Fall Festival at Vinegar Hill!&nbsp\;&nbsp\;</h4>\n\n<div>&nbsp\;</div>\n\n<p>This is a free\, community-centered event that highlights all the&nbsp\;wonderful things that make fall in New England so special! Last year blew our expectations out of the water\, and this year we&rsquo\;re looking to make this annual celebration even better!&nbsp\;&nbsp\;</p>\n\n<p>Here&rsquo\;s what you can look forward to:&nbsp\;&nbsp\;</p>\n\n<ul>\n	<li>A full day of music from local musicians (official lineup coming soon!)&nbsp\;</li>\n	<li>Our friends at&nbsp\;<a href="https://www.schoolaroundus.org/" style="box-sizing: border-box\; color: rgb(195\, 89\, 51)\; text-decoration-line: none\; background-color: transparent\; box-shadow: none\;">School Around Us</a>&nbsp\;will be back holding down the children&rsquo\;s activity station\, this year featuring pumpkin painting\, face painting\, and a maker station!&nbsp\;&nbsp\;</li>\n	<li>Local food trucks including&nbsp\;<a href="https://www.patsapplecrisp.com/" style="box-sizing: border-box\; color: rgb(195\, 89\, 51)\; text-decoration-line: none\; background-color: transparent\; box-shadow: none\;">Pat&rsquo\;s Apple Crisp &amp\; Cider Donuts&nbsp\;</a>and&nbsp\;<a href="https://mainediner.com/" style="box-sizing: border-box\; color: rgb(195\, 89\, 51)\; text-decoration-line: none\; background-color: transparent\; box-shadow: none\;">Maine Diner on the Go!&nbsp\;</a>&nbsp\;</li>\n	<li>A 20-booth Makers&rsquo\; Market featuring fall crafts from local creators!&nbsp\;</li>\n	<li>Indoor and outdoor bars featuring a selection of seasonal local beers and fall cocktails!&nbsp\;&nbsp\;</li>\n	<li>Endless vibes!&nbsp\;&nbsp\;</li>\n</ul>\n
LOCATION:Vinegar Hill Music Theatre 53 Old Post Rd. Arundel\, ME 04046
UID:e.1923.30952
SEQUENCE:3
DTSTAMP:20260421T100035Z
URL:https://chamber.gokennebunks.com/events/details/harvest-chill-fall-festival-30952
END:VEVENT

END:VCALENDAR
