BEGIN:VCALENDAR
VERSION:2.0
PRODID:-//ChamberMaster//Event Calendar 2.0//EN
METHOD:PUBLISH
X-PUBLISHED-TTL:P3D
REFRESH-INTERVAL:P3D
CALSCALE:GREGORIAN
BEGIN:VEVENT
DTSTART:20190614T210000Z
DTEND:20190614T230000Z
X-MICROSOFT-CDO-ALLDAYEVENT:FALSE
SUMMARY:Harbor High Five Cocktail Party
DESCRIPTION:
X-ALT-DESC;FMTTYPE=text/html:
LOCATION:The Harbor Inn
UID:e.1923.13102
SEQUENCE:3
DTSTAMP:20260424T194304Z
URL:https://chamber.gokennebunks.com/events/details/harbor-high-five-cocktail-party-13102
END:VEVENT

END:VCALENDAR
