BEGIN:VCALENDAR
VERSION:2.0
PRODID:-//ChamberMaster//Event Calendar 2.0//EN
METHOD:PUBLISH
X-PUBLISHED-TTL:P3D
REFRESH-INTERVAL:P3D
CALSCALE:GREGORIAN
BEGIN:VEVENT
DTSTART:20231213T150000Z
DTEND:20231213T160000Z
X-MICROSOFT-CDO-ALLDAYEVENT:FALSE
SUMMARY:HAPPY RETIREMENT WITH HAL HANNAFORD
DESCRIPTION:Wednesday\, December 13 at 10 AM. Happy Retirement with Hal Hannaford. Retirement is a misunderstood concept. In fact\, it is a counterproductive term. After all\, one should never retire from life!  We don't retire\, we do something else! After 31 years leading a traditional boys' schools as a progressive educator\, Hal left the profession in 2020. Over all those years\, he came to understand the conditions required in order to ensure the last fifth of life is one of true fulfillment and happiness. This workshop focuses on the five foundations required to reach that lofty goal. It is a challenge\, we need to start young\, but it is never too late. The Louis T. Graves Memorial Public Library is located at 18 Maine Street\, Kennebunkport. For further information\, please call 967-2778 or visit our website at www.graveslibrary.org.
X-ALT-DESC;FMTTYPE=text/html:<span style="font-family:arial\,sans-serif">Wednesday\, December 13 at 10 AM. <strong>Happy Retirement with Hal Hannaford</strong>. Retirement is a misunderstood concept. In fact\, it is a counterproductive term. After all\, one should never retire from life!&nbsp\; We don&#39\;t retire\, we do something else! After 31 years leading a traditional boys&rsquo\; schools as a progressive educator\, Hal left the profession in 2020. Over all those years\, he came to understand the conditions required in order to ensure the last fifth of life is one of true fulfillment and happiness. This workshop focuses on the five foundations required to reach that lofty goal. It is a challenge\, we need to start young\, but it is never too late. The Louis T. Graves Memorial Public Library is located at 18 Maine Street\, Kennebunkport. For further information\, please call 967-2778 or visit our website at www.graveslibrary.org.</span>
LOCATION:The Louis T. Graves Memorial Public Library is located at 18 Maine Street\, Kennebunkport. For further information\, please call 967-2778 or visit our website at www.graveslibrary.org.
UID:e.1923.23145
SEQUENCE:3
DTSTAMP:20260421T232059Z
URL:https://chamber.gokennebunks.com/events/details/happy-retirement-with-hal-hannaford-23145
END:VEVENT

END:VCALENDAR
