BEGIN:VCALENDAR
VERSION:2.0
PRODID:-//ChamberMaster//Event Calendar 2.0//EN
METHOD:PUBLISH
X-PUBLISHED-TTL:P3D
REFRESH-INTERVAL:P3D
CALSCALE:GREGORIAN
BEGIN:VEVENT
DTSTART;VALUE=DATE:20230827
DTEND;VALUE=DATE:20230828
TRANSP:TRANSPARENT
X-MICROSOFT-CDO-ALLDAYEVENT:TRUE
SUMMARY:Ham Radio Day
DESCRIPTION:The York County Amateur Radio Club will be operating throughout the day. "Get on the air" and meet new radio friends from around the world!
X-ALT-DESC;FMTTYPE=text/html:<span style="font-family:merriweather\,georgia\,times new roman\,times\,serif\; font-size:16px">The York County Amateur Radio Club will be operating throughout the day. &ldquo\;Get on the air&rdquo\; and meet new radio friends from around the world!</span>
LOCATION:Seashore Trolley Museum 195 Log Cabin Road Kennebunkport\, ME 04046
UID:e.1923.19097
SEQUENCE:3
DTSTAMP:20260422T034324Z
URL:https://chamber.gokennebunks.com/events/details/ham-radio-day-19097
END:VEVENT

END:VCALENDAR
