BEGIN:VCALENDAR
VERSION:2.0
PRODID:-//ChamberMaster//Event Calendar 2.0//EN
METHOD:PUBLISH
X-PUBLISHED-TTL:P3D
REFRESH-INTERVAL:P3D
CALSCALE:GREGORIAN
BEGIN:VEVENT
DTSTART:20241031T200000Z
DTEND:20241031T220000Z
X-MICROSOFT-CDO-ALLDAYEVENT:FALSE
SUMMARY:Halloween Haunted Walk and Treats at River Tree Arts
DESCRIPTION:Halloween Spooky Trick or Treating Adventure\n\nWhen: Thursday Oct 31st\, 4pm   6pm\n\nStop by RTA for spooky tunes\, trick or treating and a haunted walk! Donations for the haunted walk benefit our mission to provide after school and weekend arts enrichment for ALL children in our community.  Thank you to Kennebunk Savings for the volunteers and commitment to our community.  This evening would not be possible without generous donations from the Lennon-Nill family.\n\nFamily suggested donation for haunted walk & treats   $5
X-ALT-DESC;FMTTYPE=text/html:<span style="background-color:rgb(255\, 255\, 255)\; color:rgb(255\, 153\, 0)\; font-family:helvetica neue\,helvetica\,arial\,sans-serif\; font-size:16px"><strong>Halloween Spooky Trick or Treating Adventure</strong></span><br />\n<strong>When:</strong><span style="background-color:rgb(255\, 255\, 255)\; color:rgb(68\, 68\, 68)\; font-family:helvetica neue\,helvetica\,arial\,sans-serif\; font-size:16px">&nbsp\;</span><strong>Thursday Oct 31st\, 4pm &ndash\; 6pm</strong><br />\n<span style="background-color:rgb(255\, 255\, 255)\; color:rgb(68\, 68\, 68)\; font-family:helvetica neue\,helvetica\,arial\,sans-serif\; font-size:16px">Stop by RTA for spooky tunes\, trick or treating and a haunted walk! Donations for the haunted walk benefit our mission to provide after school and weekend arts enrichment for ALL children in our community.&nbsp\;&nbsp\;Thank you to Kennebunk Savings for the volunteers and commitment to our community.&nbsp\; This evening would not be possible without generous donations from the Lennon-Nill family.</span><br />\n<span style="background-color:rgb(255\, 255\, 255)\; color:rgb(68\, 68\, 68)\; font-family:helvetica neue\,helvetica\,arial\,sans-serif\; font-size:16px">Family suggested donation for haunted walk &amp\; treats &ndash\; $5</span>
LOCATION:River Tree Arts 35 Western Ave.\, Kennebunk\, ME 207-967-9120
UID:e.1923.30984
SEQUENCE:3
DTSTAMP:20260421T085010Z
URL:https://chamber.gokennebunks.com/events/details/halloween-haunted-walk-and-treats-at-river-tree-arts-30984
END:VEVENT

END:VCALENDAR
