BEGIN:VCALENDAR
VERSION:2.0
PRODID:-//ChamberMaster//Event Calendar 2.0//EN
METHOD:PUBLISH
X-PUBLISHED-TTL:P3D
REFRESH-INTERVAL:P3D
CALSCALE:GREGORIAN
BEGIN:VEVENT
DTSTART:20191026T213000Z
DTEND:20191027T013000Z
X-MICROSOFT-CDO-ALLDAYEVENT:FALSE
SUMMARY:Halloween Evening Trolley Rides to Benefit Ben's Fight\, Inc.
DESCRIPTION:This Saturday\, October 26th\, Seashore Trolley Museum is hosting a special evening to raise funds for Ben's Fight\, Inc.\, a nonprofit that supports families in southern Maine whose loved one is battling cancer. Treat your family to evening rides on the museum's private heritage railroad from 5:30PM-9:30PM. Trolleys will be decked out in lights\, and costumes are encouraged!  Tickets are $7 per person\, $25 for a family-four pack\, and children two and under are free. Delicious fall goodies will be available! 100% of the proceeds will benefit Ben's Fight\, Inc.
X-ALT-DESC;FMTTYPE=text/html:This Saturday\, October 26th\, Seashore Trolley Museum is hosting a special evening to raise funds for Ben&rsquo\;s Fight\, Inc.\, a nonprofit that supports families in southern Maine whose loved one is battling cancer. Treat your family to evening rides on the museum&rsquo\;s private heritage railroad from 5:30PM-9:30PM. Trolleys will be decked out in lights\, and costumes are encouraged!&nbsp\; Tickets are $7 per person\, $25 for a family-four pack\, and children two and under are free. Delicious fall goodies will be available! 100% of the proceeds will benefit Ben&rsquo\;s Fight\, Inc.&nbsp\;
LOCATION:Seashore Trolley Museum 195 Log Cabin Road Kennebunkport\, ME 04046
UID:e.1923.15491
SEQUENCE:3
DTSTAMP:20260424T141510Z
URL:https://chamber.gokennebunks.com/events/details/halloween-evening-trolley-rides-to-benefit-ben-s-fight-inc-15491
END:VEVENT

END:VCALENDAR
