BEGIN:VCALENDAR
VERSION:2.0
PRODID:-//ChamberMaster//Event Calendar 2.0//EN
METHOD:PUBLISH
X-PUBLISHED-TTL:P3D
REFRESH-INTERVAL:P3D
CALSCALE:GREGORIAN
BEGIN:VEVENT
DTSTART:20190613T210000Z
DTEND:20190613T233000Z
X-MICROSOFT-CDO-ALLDAYEVENT:FALSE
SUMMARY:Habitat for Humanity York County Framing the Future
DESCRIPTION:Habitat for Humanity York County's Framing the Future\, will take place on June 13th at the Nonantum from 5 to 7:30 pm. This event will feature music by Lisa Mills & Friends\, appetizers\, raffles and auction items\, including upcycled and repurposed items from the ReStore. \n\nTowns throughout York County have an affordable housing shortage\, and Habitat for Humanity is working hard to create safe\, affordable housing solutions.  We are currently working to build two durable\, energy-efficient affordable homes in York County each year\, and our weatherization program\, Keep York County Warm!\, works to improve existing housing for 40 low-income families per year. \n\n \n\nWe hope we can count on your to help us make Framing the Future an annual event!
X-ALT-DESC;FMTTYPE=text/html:<span style="font-family:palatino linotype\,serif">Habitat for Humanity York County&#39\;s Framing the Future\, will take place on June 13<sup>th</sup> at the Nonantum from 5 to 7:30 pm. This event will feature music by Lisa Mills &amp\; Friends\, appetizers\, raffles and auction items\, including upcycled and repurposed items from the ReStore. </span><br />\n<span style="font-family:palatino linotype\,serif">Towns throughout York County have an affordable housing shortage\, and Habitat for Humanity is working hard to create safe\, affordable housing solutions.&nbsp\; We are currently working to build two durable\, energy-efficient affordable homes in York County each year\, and our weatherization program\, Keep York County Warm!\, works to improve existing housing for 40 low-income families per year. </span><br />\n<span style="font-family:palatino linotype\,serif">&nbsp\;</span><br />\n<span style="font-family:palatino linotype\,serif">We hope we can count on your to help us make Framing the Future an annual event! </span>
LOCATION:The Nonatum Resort 95 Ocean Avenue Kennebunkport\, Maine
UID:e.1923.13131
SEQUENCE:3
DTSTAMP:20260424T194544Z
URL:https://chamber.gokennebunks.com/events/details/habitat-for-humanity-york-county-framing-the-future-13131
END:VEVENT

END:VCALENDAR
