BEGIN:VCALENDAR
VERSION:2.0
PRODID:-//ChamberMaster//Event Calendar 2.0//EN
METHOD:PUBLISH
X-PUBLISHED-TTL:P3D
REFRESH-INTERVAL:P3D
CALSCALE:GREGORIAN
BEGIN:VEVENT
DTSTART:20180819T170000Z
DTEND:20180819T210000Z
X-MICROSOFT-CDO-ALLDAYEVENT:FALSE
SUMMARY:Habitat for Humanity York County First Annual Cornhole Tournament Series
DESCRIPTION:Habitat for Humanity First Annual Cornhole Tournament Series\, August 19th at Funky Bow Brewery\, .21 Ledgewood Lane\, Lyman\, ME.  Check in and registration at  1 PM. Play begins at 1:30. Teams will play in a 4 team round robin to begin the tournament. Seeding for the 16 team single elimination tournament will be decided upon the completion of the round robins. Every team is guaranteed to play a minimum of four games. Thirty minute time limit for each match. 16 team maximum with prizes for 1st\, 2nd\, & 3rd. Prizes include gift cards\, dinners at area restaurants & more. Entry fee is $40.00 per team per tournament. All proceeds will support Habitat's affordable housing mission. To enter go to www.habitatyorkcounty.org. Register by August 1st to guarantee a tournament t-shirt and a reserved place in the tournament.
X-ALT-DESC;FMTTYPE=text/html:Habitat for Humanity First Annual Cornhole Tournament Series\, August 19th at Funky Bow Brewery\, .21 Ledgewood Lane\, Lyman\, ME.&nbsp\; Check in and registration at&nbsp\; 1 PM. Play begins at 1:30. Teams will play in a 4 team round robin to begin the tournament. Seeding for the 16 team single elimination tournament will be decided upon the completion of the round robins. Every team is guaranteed to play a minimum of four games. Thirty minute time limit for each match. 16 team maximum with prizes for 1st\, 2nd\, &amp\; 3rd. Prizes include gift cards\, dinners at area restaurants &amp\; more. Entry fee is $40.00 per team per tournament. All proceeds will support Habitat&#39\;s affordable housing mission. To enter go to www.habitatyorkcounty.org. Register by August 1st to guarantee a tournament t-shirt and a reserved place in the tournament.
LOCATION:Funky Bow Brewery\, 21 Ledgewood Lane\, Lyman\, ME
UID:e.1923.9935
SEQUENCE:3
DTSTAMP:20260425T133120Z
URL:https://chamber.gokennebunks.com/events/details/habitat-for-humanity-york-county-first-annual-cornhole-tournament-series-9935
END:VEVENT

END:VCALENDAR
