BEGIN:VCALENDAR
VERSION:2.0
PRODID:-//ChamberMaster//Event Calendar 2.0//EN
METHOD:PUBLISH
X-PUBLISHED-TTL:P3D
REFRESH-INTERVAL:P3D
CALSCALE:GREGORIAN
BEGIN:VEVENT
DTSTART:20180506T180000Z
DTEND:20180506T190000Z
X-MICROSOFT-CDO-ALLDAYEVENT:FALSE
SUMMARY:Habitat dedicates Home in Wells
DESCRIPTION:Event Description: Wells\, ME   Habitat for Humanity York County has completed their 28th home in York County. Celebration and open house is scheduled for Sunday\, May 6th at 2:00 pm at 743 Quarry Road in Wells. Following the dedication ceremony\, attendees are invited to tour the new energy-efficient three-bedroom home\, which was made possible due to generous sponsors\, donated materials\, volunteer labor\, and the dedication and commitment of Charles and Shannon Carter\, the new homeowner family. Many area businesses supported the Quarry Road Build through donations of funds\, services\, materials\, or reduced costs. "The passion\, commitment and generosity of the community of organizations and individuals came together to make the dream of safe\, affordable homeownership a reality for the Carter family. The project has been bittersweet since the passing of Dakota\, the family's 10 year old son\, in February due to complications from a rare genetic disorder. We are looking forward to giving Charlie\, Shannon and Jordan Carter a warm welcome to Wells and their new home." said Amy Nucci\, Executive Director of Habitat for Humanity of York County. "Our thanks to everyone involved in the Walk to Raise the Roof in Wells and the Quarry Road Build."
X-ALT-DESC;FMTTYPE=text/html:Event Description: Wells\, ME &mdash\; Habitat for Humanity York County has completed their 28th home in York County. Celebration and open house is scheduled for Sunday\, May 6th at 2:00 pm at 743 Quarry Road in Wells. Following the dedication ceremony\, attendees are invited to tour the new energy-efficient three-bedroom home\, which was made possible due to generous sponsors\, donated materials\, volunteer labor\, and the dedication and commitment of Charles and Shannon Carter\, the new homeowner family. Many area businesses supported the Quarry Road Build through donations of funds\, services\, materials\, or reduced costs. &ldquo\;The passion\, commitment and generosity of the community of organizations and individuals came together to make the dream of safe\, affordable homeownership a reality for the Carter family. The project has been bittersweet since the passing of Dakota\, the family&rsquo\;s 10 year old son\, in February due to complications from a rare genetic disorder. We are looking forward to giving Charlie\, Shannon and Jordan Carter a warm welcome to Wells and their new home.&rdquo\; said Amy Nucci\, Executive Director of Habitat for Humanity of York County. &ldquo\;Our thanks to everyone involved in the Walk to Raise the Roof in Wells and the Quarry Road Build.&rdquo\;
LOCATION:743 Quarry Road\, Wells Directions: From Route 1 in Wells\, 109 North to left on Bragdon Road\, Right onto Bald Hill Road\, Left onto Quarry Road. Pass 743 Quarry Road\, and turn right onto Ponderosa Drive. Quarry Road is a very busy road\, please park on Ponderosa Drive behind the home.
UID:e.1923.9815
SEQUENCE:3
DTSTAMP:20260425T155042Z
URL:https://chamber.gokennebunks.com/events/details/habitat-dedicates-home-in-wells-9815
END:VEVENT

END:VCALENDAR
