BEGIN:VCALENDAR
VERSION:2.0
PRODID:-//ChamberMaster//Event Calendar 2.0//EN
METHOD:PUBLISH
X-PUBLISHED-TTL:P3D
REFRESH-INTERVAL:P3D
CALSCALE:GREGORIAN
BEGIN:VEVENT
DTSTART:20191009T230000Z
DTEND:20191010T000000Z
X-MICROSOFT-CDO-ALLDAYEVENT:FALSE
SUMMARY:Guy's Night Yoga + Beer
DESCRIPTION:Hey guys... how does pairing your yoga with a cold beverage sound? Come for the heated vinyasa class aimed at helping you stretch and strengthen - stay for the beer tasting from our favorite local brewery!
X-ALT-DESC;FMTTYPE=text/html:Hey guys... how does pairing your yoga with a cold beverage sound? Come for the heated vinyasa class aimed at helping you stretch and strengthen - stay for the beer tasting from our favorite local brewery! \n \n
LOCATION:65 Portland Rd\, Kennebunk ME Building A\, Unit D
UID:e.1923.13473
SEQUENCE:3
DTSTAMP:20260424T140756Z
URL:https://chamber.gokennebunks.com/events/details/guy-s-night-yoga-beer-13473
END:VEVENT

END:VCALENDAR
