BEGIN:VCALENDAR
VERSION:2.0
PRODID:-//ChamberMaster//Event Calendar 2.0//EN
METHOD:PUBLISH
X-PUBLISHED-TTL:P3D
REFRESH-INTERVAL:P3D
CALSCALE:GREGORIAN
BEGIN:VEVENT
DTSTART:20200116T000000Z
DTEND:20200116T010000Z
X-MICROSOFT-CDO-ALLDAYEVENT:FALSE
SUMMARY:Guy's night
DESCRIPTION:Hey guys... how does pairing your yoga with a cold beverage sound? Come for the heated vinyasa class aimed at helping you stretch and strengthen - stay for the beer tasting from our favorite local brewery! $25/$5 for members
X-ALT-DESC;FMTTYPE=text/html:Hey guys... how does pairing your yoga with a cold beverage sound? Come for the heated vinyasa class aimed at helping you stretch and strengthen - stay for the beer tasting from our favorite local brewery! $25/$5 for members
LOCATION:The Daily Sweat 65 Portland RD Building A\, Unit D\, Kennebunk\, ME 04043
UID:e.1923.15579
SEQUENCE:3
DTSTAMP:20260424T055330Z
URL:https://chamber.gokennebunks.com/events/details/guy-s-night-15579
END:VEVENT

END:VCALENDAR
