BEGIN:VCALENDAR
VERSION:2.0
PRODID:-//ChamberMaster//Event Calendar 2.0//EN
METHOD:PUBLISH
X-PUBLISHED-TTL:P3D
REFRESH-INTERVAL:P3D
CALSCALE:GREGORIAN
BEGIN:VEVENT
DTSTART:20250517T140000Z
DTEND:20250517T153000Z
X-MICROSOFT-CDO-ALLDAYEVENT:FALSE
SUMMARY:Guided Walk through Hope Woods in Kennebunk
DESCRIPTION:Join us for a guided walk through beautiful Hope Woods right in downtown Kennebunk. Our Maine Master Naturalist\, Gordon Collins will point out the flora that grows throughout the woods including hints on how to identify each one. If you are a frequent visitor to Hope Woods or this is your first time\, you will find this walk informative and fun. The walk takes place on our accessible trail which is especially designed for comfort for all including those who are mobility challenged.
X-ALT-DESC;FMTTYPE=text/html:Join us for a guided walk through beautiful Hope Woods right in downtown Kennebunk. Our Maine Master Naturalist\, Gordon Collins will point out the flora that grows throughout the woods including hints on how to identify each one. If you are a frequent visitor to Hope Woods or this is your first time\, you will find this walk informative and fun. The walk takes place on our accessible trail which is especially designed for comfort for all including those who are mobility challenged.&nbsp\;
LOCATION:Hope Trail Lane off of Barnard Lane in Kennebunk
UID:e.1923.34212
SEQUENCE:3
DTSTAMP:20260421T045918Z
URL:https://chamber.gokennebunks.com/events/details/guided-walk-through-hope-woods-in-kennebunk-05-17-2025-34212
END:VEVENT

END:VCALENDAR
