BEGIN:VCALENDAR
VERSION:2.0
PRODID:-//ChamberMaster//Event Calendar 2.0//EN
METHOD:PUBLISH
X-PUBLISHED-TTL:P3D
REFRESH-INTERVAL:P3D
CALSCALE:GREGORIAN
BEGIN:VEVENT
DTSTART:20231112T180000Z
DTEND:20231112T193000Z
X-MICROSOFT-CDO-ALLDAYEVENT:FALSE
SUMMARY:Guided Walk Through Beautiful Hope Woods in Kennebunk
DESCRIPTION:Friends of Hope Cemetery & Woods would like you to join us for a walk through beautiful Hope Woods. Our Maine Master Naturalist\, Gordon Collins\, will guide you on our accessible trail and point out some interesting facts about the flora that grows in the woods and throughout Maine. For registration and questions\, please email friendsofhcw@gmail.com or call 207-387-9100.
X-ALT-DESC;FMTTYPE=text/html:<div>Friends of Hope Cemetery &amp\; Woods would like you to join us for a walk through beautiful Hope Woods. Our Maine Master Naturalist\, Gordon Collins\, will guide you on our accessible trail and point out some interesting facts about the flora that grows in the woods and throughout Maine. For registration and questions\, please email&nbsp\;<a href="mailto:friendsofhcw@gmail.com" style="color: rgb(17\, 85\, 204)\;" target="_blank">friendsofhcw@gmail.com</a>&nbsp\;or call 207-387-9100.</div>\n
LOCATION:Hope Trail Lane off of Barnard Lane in Kennebunk
UID:e.1923.23082
SEQUENCE:3
DTSTAMP:20260421T233136Z
URL:https://chamber.gokennebunks.com/events/details/guided-walk-through-beautiful-hope-woods-in-kennebunk-11-12-2023-23082
END:VEVENT

END:VCALENDAR
