BEGIN:VCALENDAR
VERSION:2.0
PRODID:-//ChamberMaster//Event Calendar 2.0//EN
METHOD:PUBLISH
X-PUBLISHED-TTL:P3D
REFRESH-INTERVAL:P3D
CALSCALE:GREGORIAN
BEGIN:VEVENT
DTSTART:20230709T170000Z
DTEND:20230709T183000Z
X-MICROSOFT-CDO-ALLDAYEVENT:FALSE
SUMMARY:Guided Walk Through Beautiful Hope Woods in Kennebunk
DESCRIPTION:Join us for a beautiful and informative walk through Hope Woods in back of Hope Cemetery. Your guide\, Maine Master Naturalist\, Gordon Collins\, will walk you through our accessible trail and show you some of the varied flora that grows in the woods. Our accessible trail is designed to accommodate people with wheelchairs\, strollers\, crutches\, canes\, etc. so all can enjoy this lovely venue right in downtown Kennebunk.
X-ALT-DESC;FMTTYPE=text/html:Join us for a beautiful and informative walk through Hope Woods in back of Hope Cemetery. Your guide\, Maine Master Naturalist\, Gordon Collins\, will walk you through our accessible trail and show you some of the varied flora that grows in the woods. Our accessible trail is designed to accommodate people with wheelchairs\, strollers\, crutches\, canes\, etc. so all can enjoy this lovely venue right in downtown Kennebunk.&nbsp\;
LOCATION:Hope Trail Lane off of Barnard Street in Kennebunk
UID:e.1923.19969
SEQUENCE:3
DTSTAMP:20260422T050457Z
URL:https://chamber.gokennebunks.com/events/details/guided-walk-through-beautiful-hope-woods-in-kennebunk-07-09-2023-19969
END:VEVENT

END:VCALENDAR
