BEGIN:VCALENDAR
VERSION:2.0
PRODID:-//ChamberMaster//Event Calendar 2.0//EN
METHOD:PUBLISH
X-PUBLISHED-TTL:P3D
REFRESH-INTERVAL:P3D
CALSCALE:GREGORIAN
BEGIN:VEVENT
DTSTART:20250313T203000Z
DTEND:20250313T213000Z
X-MICROSOFT-CDO-ALLDAYEVENT:FALSE
SUMMARY:Guided Meditation Class at The Tree Spa Pop-Up
DESCRIPTION:Thursday\, January 23\, 2025   4:30 - 5:30pm EST\n\n\n\nSource from within and join our guided healer for a transcendental meditation and Tibetan Bowl healing sounds. Listen to the rhythm of each bowl as they heal and release energy. Feel the vibrations as they soothe and reduce stress\, while creating a deeper sense of peace and well-being. Join us at Cape Arundel's Annual Tree Spa Pop-Up and craft your path to revive inner peace and well-being. Inquire about personal group classes to elevate your experience with loved ones!\n\n\n	Thursday\, January 23 | Guided Meditation at 4:30pm. $50 per person.\n	Thursday\, February 13 | Guided Meditation at 4:30pm. $50 per person.\n	Thursday\, March 13 | Guided Meditation at 4:30pm. $50 per person.\n\n\nPURCHASE TICKETS: https://www.eventbrite.com/cc/cape-arundel-spa-pop-up-2845599\n\n___\n\n\n\nClass will be held at Tree Spa Pop-Up at Cape Arundel Clubhouse\, located at 8 Old Fort Avenue in Kennebunkport.
X-ALT-DESC;FMTTYPE=text/html:<p>Thursday\, January 23\, 2025 &middot\; 4:30 - 5:30pm EST<br />\n<br />\nSource from within and join our guided healer for a transcendental meditation and Tibetan Bowl healing sounds. Listen to the rhythm of each bowl as they heal and release energy. Feel the vibrations as they soothe and reduce stress\, while creating a deeper sense of peace and well-being.&nbsp\;Join us at Cape Arundel&#39\;s Annual Tree Spa Pop-Up and craft your path to revive inner peace and well-being. Inquire about personal group classes to elevate your experience with loved ones!</p>\n\n<ul>\n	<li><em>Thursday\, January 23 | Guided Meditation at 4:30pm. $50 per person.</em></li>\n	<li><em>Thursday\, February 13 | Guided Meditation at 4:30pm. $50 per person.</em></li>\n	<li><em>Thursday\, March 13 | Guided Meditation at 4:30pm. $50 per person.</em></li>\n</ul>\n\n<p><a href="https://www.eventbrite.com/cc/cape-arundel-spa-pop-up-2845599"><strong><span style="font-family:arial\,helvetica\,sans-serif">PURCHASE TICKETS:&nbsp\;</span>https://www.eventbrite.com/cc/cape-arundel-spa-pop-up-2845599</strong></a><br />\n<span style="font-family:arial\,helvetica\,sans-serif">___</span><br />\n<br />\n<em><span style="font-family:arial\,helvetica\,sans-serif">Class will be held at Tree Spa Pop-Up at Cape Arundel Clubhouse\, located at 8 Old Fort Avenue in Kennebunkport.&nbsp\;</span></em></p>\n
LOCATION:Cape Arundel Clubhouse 8 Old Fort Avenue Kennebunkport\, Maine 04046
UID:e.1923.31476
SEQUENCE:3
DTSTAMP:20260420T230320Z
URL:https://chamber.gokennebunks.com/events/details/guided-meditation-class-at-the-tree-spa-pop-up-03-13-2025-31476
END:VEVENT

END:VCALENDAR
