BEGIN:VCALENDAR
VERSION:2.0
PRODID:-//ChamberMaster//Event Calendar 2.0//EN
METHOD:PUBLISH
X-PUBLISHED-TTL:P3D
REFRESH-INTERVAL:P3D
CALSCALE:GREGORIAN
BEGIN:VEVENT
DTSTART;VALUE=DATE:20230910
DTEND;VALUE=DATE:20230911
TRANSP:TRANSPARENT
X-MICROSOFT-CDO-ALLDAYEVENT:TRUE
SUMMARY:Grandparents Day at Seashore
DESCRIPTION:Calling all Grandparents! Come out to the Seashore Trolley Museum on Sunday\, September 10th to celebrate with us and get FREE Admission! Pick up your free boarding pass at the door at our Museum Store.
X-ALT-DESC;FMTTYPE=text/html:<span style="font-family:merriweather\,georgia\,times new roman\,times\,serif\; font-size:16px">Calling all Grandparents! Come out to the Seashore Trolley Museum on Sunday\, September 10th to celebrate with us and get FREE Admission! Pick up your free boarding pass at the door at our Museum Store.</span>
LOCATION:Seashore Trolley Museum 195 Log Cabin Road Kennebunkport\, ME 04046
UID:e.1923.19099
SEQUENCE:3
DTSTAMP:20260422T033729Z
URL:https://chamber.gokennebunks.com/events/details/grandparents-day-at-seashore-19099
END:VEVENT

END:VCALENDAR
