BEGIN:VCALENDAR
VERSION:2.0
PRODID:-//ChamberMaster//Event Calendar 2.0//EN
METHOD:PUBLISH
X-PUBLISHED-TTL:P3D
REFRESH-INTERVAL:P3D
CALSCALE:GREGORIAN
BEGIN:VEVENT
DTSTART:20240921T000000Z
DTEND:20240921T023000Z
X-MICROSOFT-CDO-ALLDAYEVENT:FALSE
SUMMARY:Goldenoak
DESCRIPTION:GA Seated: $20 Advance | $27 Door\n\nFood Truck 6pm\n\nDoors 7pm | Show 8pm\n\n \n\n \n\nJoin us for food and drinks before the show in our outdoor garden starting at 6pm! \n\nThe night's food truck is TBD!\n\n \n\nGoldenOak's music is rooted in the natural landscape their songs move like a stream\, meandering and weaving in an original yet grounding direction. Fronted by siblings Zak and Lena Kendall\, GoldenOak's music calmly excites its listeners while nestled in rich\, folk-influenced sibling harmony. The Maine-based band has built a steady and growing fan base with this kind of energetic intimacy. This is perfectly represented in the group's latest album\, "Room to Grow" a 10-song reflection of the emotional and physical impacts of the climate crisis. The band is rounded out by upright bassist Mike Knowles and drummer Jackson Cromwell.\n\n \n\nVinegar Hill Music Theatre is an independently owned event space located at 53 Old Post Road in Arundel\, ME. Our charming\, historic barn and outdoor garden provide an ideal backdrop for an unforgettable\, intimate evening! Learn more here.
X-ALT-DESC;FMTTYPE=text/html:<h4>GA Seated: $20 Advance | $27 Door</h4>\n\n<h4>Food Truck 6pm</h4>\n\n<h4>Doors 7pm | Show 8pm</h4>\n\n<h4>&nbsp\;</h4>\n\n<p>&nbsp\;</p>\n\n<p>Join us for food and drinks before the show in our outdoor garden starting at&nbsp\;<strong>6pm!</strong>&nbsp\;</p>\n\n<p>The night&rsquo\;s food truck is <strong>TBD!</strong></p>\n\n<p>&nbsp\;</p>\n\n<p><a href="https://www.goldenoakband.com/" rel="noopener noreferrer" style="box-sizing: border-box\; color: rgb(255\, 255\, 255)\; text-decoration-line: none\; background-color: transparent\; outline: none !important\;" target="_blank"><strong>GoldenOak&rsquo\;s</strong></a> music is rooted in the natural landscape&mdash\;their songs move like a stream\, meandering and weaving in an original yet grounding direction. Fronted by siblings Zak and Lena Kendall\, GoldenOak&rsquo\;s music calmly excites its listeners while nestled in rich\, folk-influenced sibling harmony. The Maine-based band has built a steady and growing fan base with this kind of energetic intimacy. This is perfectly represented in the group&#39\;s latest album\, &ldquo\;Room to Grow&rdquo\;&mdash\;a 10-song reflection of the emotional and physical impacts of the climate crisis. The band is rounded out by upright bassist Mike Knowles and drummer Jackson Cromwell.</p>\n\n<p>&nbsp\;</p>\n\n<p><em>Vinegar Hill Music Theatre is an independently owned event space located at 53 Old Post Road in Arundel\, ME. Our charming\, historic barn and outdoor garden provide an ideal backdrop for an unforgettable\, intimate evening! </em><a href="https://vinhillmusic.com/" rel="noopener noreferrer" style="box-sizing: border-box\; color: rgb(255\, 255\, 255)\; text-decoration-line: none\; background-color: transparent\; outline: none !important\;" target="_blank"><strong><em>Learn more here. </em></strong></a></p>\n
LOCATION:Vinegar Hill Music Theatre 53 Old Post Road Arundel\, Maine 04046
UID:e.1923.29890
SEQUENCE:3
DTSTAMP:20260421T095950Z
URL:https://chamber.gokennebunks.com/events/details/goldenoak-09-20-2024-29890
END:VEVENT

END:VCALENDAR
