BEGIN:VCALENDAR
VERSION:2.0
PRODID:-//ChamberMaster//Event Calendar 2.0//EN
METHOD:PUBLISH
X-PUBLISHED-TTL:P3D
REFRESH-INTERVAL:P3D
CALSCALE:GREGORIAN
BEGIN:VEVENT
DTSTART:20171208T220000Z
DTEND:20171208T233000Z
X-MICROSOFT-CDO-ALLDAYEVENT:FALSE
SUMMARY:Golden Chariot Ride & Cocktail Party
DESCRIPTION:Golden Chariot Ride and Cocktail Party -- Dec 1 and Dec 8   5 pm ride in Seashore Trolley's most beautiful open car\, followed by a cocktail party in the visitor center.  Sip a "Streetcar Named Desire" or a "Montreal Madnesss"\, wine or beer.  $25/pp includes two drinks.
X-ALT-DESC;FMTTYPE=text/html:<strong><span style="font-size:8pt">Golden Chariot Ride and Cocktail Party -- Dec 1 and Dec 8&nbsp\;&nbsp\; </span></strong><span style="color:black"><span style="font-size:8pt">5 pm ride in Seashore Trolley&#39\;s most beautiful open car\, followed by a cocktail party in the visitor center. &nbsp\;Sip a &quot\;Streetcar Named Desire&quot\; or a &quot\;Montreal Madnesss&quot\;\, wine or beer. &nbsp\;$25/pp&nbsp\;includes two drinks.</span></span>
LOCATION:Seashore Trolley Museum\, 195 Log Cabin Rd\, Kennebunkport
UID:e.1923.5905
SEQUENCE:3
DTSTAMP:20260425T234618Z
URL:https://chamber.gokennebunks.com/events/details/golden-chariot-ride-cocktail-party-12-08-2017-5905
END:VEVENT

END:VCALENDAR
