BEGIN:VCALENDAR
VERSION:2.0
PRODID:-//ChamberMaster//Event Calendar 2.0//EN
METHOD:PUBLISH
X-PUBLISHED-TTL:P3D
REFRESH-INTERVAL:P3D
CALSCALE:GREGORIAN
BEGIN:VEVENT
DTSTART:20191213T220000Z
DTEND:20191213T233000Z
X-MICROSOFT-CDO-ALLDAYEVENT:FALSE
SUMMARY:Golden Chariot Ride and Cocktail Party
DESCRIPTION:Join Seashore Trolley Museum for our very special holiday tradition\; Golden Chariot Ride and Cocktail Party! Held on Friday\, December 13th at 5PM\, the Golden Chariot\, a completely open trolley\, will whisk you down the tracks with only the glow of the festive lights on the trolley illuminating the way. \n\n\n\nTickets are $30/person and include two signature cocktails and appetizers at the Visitors Center after the ride. Purchase tickets today at: https://goldenchariotdec13.eventbrite.com\n\n\n\n\n\nLocated at 195 Log Cabin Road in Kennebunkport\, the Seashore Trolley Museum is the world's oldest and largest electric railway and transit museum. The Museum is dog-friendly\, with plenty of parking. \n\n\n\nFor more information\, please visit www.trolleymuseum.org or call\, 207-967-2800 x111 or email director@neerhs.org.
X-ALT-DESC;FMTTYPE=text/html:Join Seashore Trolley Museum for our very special holiday tradition\; Golden Chariot Ride and Cocktail Party! Held on Friday\, December 13th at 5PM\, the Golden Chariot\, a completely open trolley\, will whisk you down the tracks with only the glow of the festive lights on the trolley illuminating the way.&nbsp\;<br />\n<br />\nTickets are $30/person and include two signature cocktails and appetizers at the Visitors Center after the ride. Purchase tickets today at: https://goldenchariotdec13.eventbrite.com<br />\n<br />\n<br />\nLocated at 195 Log Cabin Road in Kennebunkport\, the Seashore Trolley Museum is the world&rsquo\;s oldest and largest electric railway and transit museum. The Museum is dog-friendly\, with plenty of parking.&nbsp\;<br />\n<br />\nFor more information\, please visit www.trolleymuseum.org or call\, 207-967-2800 x111 or email director@neerhs.org.&nbsp\;
LOCATION:Seashore Trolley Museum 195 Log Cabin Road Kennebunkport\, ME 04046
UID:e.1923.15544
SEQUENCE:3
DTSTAMP:20260424T113752Z
URL:https://chamber.gokennebunks.com/events/details/golden-chariot-ride-and-cocktail-party-12-13-2019-15544
END:VEVENT

END:VCALENDAR
