BEGIN:VCALENDAR
VERSION:2.0
PRODID:-//ChamberMaster//Event Calendar 2.0//EN
METHOD:PUBLISH
X-PUBLISHED-TTL:P3D
REFRESH-INTERVAL:P3D
CALSCALE:GREGORIAN
BEGIN:VEVENT
DTSTART:20181207T220000Z
DTEND:20181207T230000Z
X-MICROSOFT-CDO-ALLDAYEVENT:FALSE
SUMMARY:Golden Chariot Ride and Cocktail Party
DESCRIPTION:BUNDLE UP!\n\nThe Museum's most beautiful open car\, which originally operated as a sightseeing car in Montreal\, becomes a wintry chariot whisking you along on a nighttime ride. (under a waning quarter moon)\n\nSignature cocktails and appetizers warm you up back at the visitor center.\n\nTickets are only $25 and include the ride\; two signature cocktails\, beer or wine\; and appetizers!
X-ALT-DESC;FMTTYPE=text/html:<span style="font-family:merriweather\,georgia\,times new roman\,times\,serif\; font-size:16px">BUNDLE UP!</span><br />\n<span style="font-family:merriweather\,georgia\,times new roman\,times\,serif\; font-size:16px">The Museum&rsquo\;s most beautiful open car\, which originally operated as a sightseeing car in Montreal\, becomes a wintry chariot whisking you along on a nighttime ride. (under a waning quarter moon)</span><br />\n<span style="font-family:merriweather\,georgia\,times new roman\,times\,serif\; font-size:16px">Signature cocktails and appetizers warm you up back at the visitor center.</span><br />\n<span style="font-family:merriweather\,georgia\,times new roman\,times\,serif\; font-size:16px">Tickets are only $25 and include the ride\; two signature cocktails\, beer or wine\; and appetizers!</span>
LOCATION:Seashore Trolley Museum\, 195 Log Cabin Rd\, Kennebunkport
UID:e.1923.7555
SEQUENCE:3
DTSTAMP:20260425T042022Z
URL:https://chamber.gokennebunks.com/events/details/golden-chariot-ride-and-cocktail-party-12-07-2018-7555
END:VEVENT

END:VCALENDAR
